BEGIN:VCALENDAR
VERSION:2.0
PRODID:-//Northwest Indian College - ECPv6.15.20//NONSGML v1.0//EN
CALSCALE:GREGORIAN
METHOD:PUBLISH
X-WR-CALNAME:Northwest Indian College
X-ORIGINAL-URL:https://www.nwic.edu
X-WR-CALDESC:Events for Northwest Indian College
REFRESH-INTERVAL;VALUE=DURATION:PT1H
X-Robots-Tag:noindex
X-PUBLISHED-TTL:PT1H
BEGIN:VTIMEZONE
TZID:America/Vancouver
BEGIN:DAYLIGHT
TZOFFSETFROM:-0800
TZOFFSETTO:-0700
TZNAME:PDT
DTSTART:20220313T100000
END:DAYLIGHT
BEGIN:STANDARD
TZOFFSETFROM:-0700
TZOFFSETTO:-0800
TZNAME:PST
DTSTART:20221106T090000
END:STANDARD
BEGIN:DAYLIGHT
TZOFFSETFROM:-0800
TZOFFSETTO:-0700
TZNAME:PDT
DTSTART:20230312T100000
END:DAYLIGHT
BEGIN:STANDARD
TZOFFSETFROM:-0700
TZOFFSETTO:-0800
TZNAME:PST
DTSTART:20231105T090000
END:STANDARD
BEGIN:DAYLIGHT
TZOFFSETFROM:-0800
TZOFFSETTO:-0700
TZNAME:PDT
DTSTART:20240310T100000
END:DAYLIGHT
BEGIN:STANDARD
TZOFFSETFROM:-0700
TZOFFSETTO:-0800
TZNAME:PST
DTSTART:20241103T090000
END:STANDARD
END:VTIMEZONE
BEGIN:VEVENT
DTSTART;TZID=America/Vancouver:20230104T120000
DTEND;TZID=America/Vancouver:20230104T130000
DTSTAMP:20260422T122821
CREATED:20230105T225208Z
LAST-MODIFIED:20230105T225208Z
UID:23819-1672833600-1672837200@www.nwic.edu
SUMMARY:Wellness Wednesdays
DESCRIPTION:Make & Take a beading project or contribute it to the Vine Deloria Jr. Indigenous Studies Symposium. Healthy snacks and good conversation provided weekly on Wednesdays noon-1 p.m. at the Lummi Campus Building 6.
URL:https://www.nwic.edu/event/wellness-wednesdays-2/
LOCATION:Lummi Campus\, Building 6
CATEGORIES:Wellness
ORGANIZER;CN="Heather Jefferson":MAILTO:hlj@nwic.edu
END:VEVENT
BEGIN:VEVENT
DTSTART;TZID=America/Vancouver:20230104T193000
DTEND;TZID=America/Vancouver:20230104T210000
DTSTAMP:20260422T122821
CREATED:20230106T014824Z
LAST-MODIFIED:20230106T014824Z
UID:23846-1672860600-1672866000@www.nwic.edu
SUMMARY:Away: NWIC Eagles vs. Green River Community College
DESCRIPTION:Final:\nCheer on the NWIC Eagles as they play Green River Community College! \nJan. 4 at 7:30 p.m. \nLocation: Green River Community College – Auburn\, WA \nContact: jlmathias@nwic.edu
URL:https://www.nwic.edu/event/away-nwic-eagles-vs-green-river-community-college/
CATEGORIES:Athletic
ORGANIZER;CN="James Mathias":MAILTO:jlmathias@nwic.edu
END:VEVENT
END:VCALENDAR