BEGIN:VCALENDAR
VERSION:2.0
PRODID:-//Northwest Indian College - ECPv6.15.20//NONSGML v1.0//EN
CALSCALE:GREGORIAN
METHOD:PUBLISH
X-WR-CALNAME:Northwest Indian College
X-ORIGINAL-URL:https://www.nwic.edu
X-WR-CALDESC:Events for Northwest Indian College
REFRESH-INTERVAL;VALUE=DURATION:PT1H
X-Robots-Tag:noindex
X-PUBLISHED-TTL:PT1H
BEGIN:VTIMEZONE
TZID:America/Vancouver
BEGIN:DAYLIGHT
TZOFFSETFROM:-0800
TZOFFSETTO:-0700
TZNAME:PDT
DTSTART:20220313T100000
END:DAYLIGHT
BEGIN:STANDARD
TZOFFSETFROM:-0700
TZOFFSETTO:-0800
TZNAME:PST
DTSTART:20221106T090000
END:STANDARD
BEGIN:DAYLIGHT
TZOFFSETFROM:-0800
TZOFFSETTO:-0700
TZNAME:PDT
DTSTART:20230312T100000
END:DAYLIGHT
BEGIN:STANDARD
TZOFFSETFROM:-0700
TZOFFSETTO:-0800
TZNAME:PST
DTSTART:20231105T090000
END:STANDARD
BEGIN:DAYLIGHT
TZOFFSETFROM:-0800
TZOFFSETTO:-0700
TZNAME:PDT
DTSTART:20240310T100000
END:DAYLIGHT
BEGIN:STANDARD
TZOFFSETFROM:-0700
TZOFFSETTO:-0800
TZNAME:PST
DTSTART:20241103T090000
END:STANDARD
END:VTIMEZONE
BEGIN:VEVENT
DTSTART;VALUE=DATE:20230503
DTEND;VALUE=DATE:20230505
DTSTAMP:20260423T042716
CREATED:20230411T160610Z
LAST-MODIFIED:20230429T004843Z
UID:24341-1683072000-1683244799@www.nwic.edu
SUMMARY:Weavers Teaching Weavers Gathering
DESCRIPTION:Northwest Indian College Cooperative Extension Department is hosting the 17th Annual Weavers Teaching Weavers Gathering May 3-4\, 2023 at the Silver Reef Casino Event Center. \nTo register for please send an email to CooperativeExtension@nwic.edu or 360-392-4343. \nRegistration Fee is $125.00 per person & $ 75.00 for Elders \n  \nRegister here
URL:https://www.nwic.edu/event/weavers-teaching-weavers-gathering/
LOCATION:Silver Reef Casino Events Center\, 4876 Haxton Way\, Ferndale\, WA\, 98248\, United States
CATEGORIES:Conference
ATTACH;FMTTYPE=image/jpeg:https://www.nwic.edu/wp-content/uploads/2023/04/WTW-Save-the-date-flyer-2023-2.jpg
END:VEVENT
BEGIN:VEVENT
DTSTART;TZID=America/Vancouver:20230504T110000
DTEND;TZID=America/Vancouver:20230504T120000
DTSTAMP:20260423T042716
CREATED:20230419T005243Z
LAST-MODIFIED:20230419T005243Z
UID:24457-1683198000-1683201600@www.nwic.edu
SUMMARY:Student Connections: Coffee and Conversations
DESCRIPTION: \nCome and join us for Coffee and Conversations visit with your NWIC Family and make some new friends every Thursday at 11am to noon via Zoom. Share your thoughts on the day’s topic or anything else that is on your mind. \n\nWe provide the conversation and you provide the coffee\, tea\, or whatever you like to sip on while you visit with friends and family. All are welcome to our virtual conversation.
URL:https://www.nwic.edu/event/student-connections-coffee-and-conversations-2-2/
LOCATION:Zoom
CATEGORIES:Student Services
END:VEVENT
BEGIN:VEVENT
DTSTART;TZID=America/Vancouver:20230504T120000
DTEND;TZID=America/Vancouver:20230504T133000
DTSTAMP:20260423T042716
CREATED:20230428T163551Z
LAST-MODIFIED:20230428T163551Z
UID:24516-1683201600-1683207000@www.nwic.edu
SUMMARY:President's Meeting with Students (Lummi Campus)
DESCRIPTION:Lummi Campus Students\, join Northwest Indian College President Justin Guillory in a conversation about your NWIC experience. This meeting is a space to meet President Guillory and address any concerns. \nJoin us via Zoom (link sent to your NWIC email).
URL:https://www.nwic.edu/event/presidents-meeting-with-students-extended-campus-sites-and-virtual-learners-2/
LOCATION:Log Building\, 2522 Kwina Rd.\, Bellingham\, WA\, 98226\, United States
CATEGORIES:Meeting
ATTACH;FMTTYPE=image/jpeg:https://www.nwic.edu/wp-content/uploads/2023/04/Presidents-Meeting-Flyer-Lummi-Spring-2023.jpg
ORGANIZER;CN="President's Office":MAILTO:president@nwic.edu
END:VEVENT
BEGIN:VEVENT
DTSTART;TZID=America/Vancouver:20230504T120000
DTEND;TZID=America/Vancouver:20230504T150000
DTSTAMP:20260423T042716
CREATED:20230419T004025Z
LAST-MODIFIED:20230419T004025Z
UID:24447-1683201600-1683212400@www.nwic.edu
SUMMARY:Community Food Pantry Distribution
DESCRIPTION:NWIC has a community food pantry distribution ever Thursday\, open to all. There is a weekly recipe\, fresh fruits and vegetables and some household goods. \nPick up near the Eagles Market (Lummi campus) from noon to 3 p.m. \nFor donations or questions\, contact Patrick Doran\, at pjdoran@nwic.edu. Appointments for pickup on other days can be made with Kathy Humphreys\, at khumphreys@nwic.edu.
URL:https://www.nwic.edu/event/community-food-pantry-distribution-2-2/
LOCATION:Lummi Campus\, Building 13
CATEGORIES:Community
ATTACH;FMTTYPE=image/jpeg:https://www.nwic.edu/wp-content/uploads/2023/04/Food-Pantry-Flyer.jpg
ORGANIZER;CN="Patrick Doran":MAILTO:pjdoran@nwic.edu
END:VEVENT
END:VCALENDAR