BEGIN:VCALENDAR
VERSION:2.0
PRODID:-//Northwest Indian College - ECPv6.15.20//NONSGML v1.0//EN
CALSCALE:GREGORIAN
METHOD:PUBLISH
X-ORIGINAL-URL:https://www.nwic.edu
X-WR-CALDESC:Events for Northwest Indian College
REFRESH-INTERVAL;VALUE=DURATION:PT1H
X-Robots-Tag:noindex
X-PUBLISHED-TTL:PT1H
BEGIN:VTIMEZONE
TZID:America/Vancouver
BEGIN:DAYLIGHT
TZOFFSETFROM:-0800
TZOFFSETTO:-0700
TZNAME:PDT
DTSTART:20220313T100000
END:DAYLIGHT
BEGIN:STANDARD
TZOFFSETFROM:-0700
TZOFFSETTO:-0800
TZNAME:PST
DTSTART:20221106T090000
END:STANDARD
BEGIN:DAYLIGHT
TZOFFSETFROM:-0800
TZOFFSETTO:-0700
TZNAME:PDT
DTSTART:20230312T100000
END:DAYLIGHT
BEGIN:STANDARD
TZOFFSETFROM:-0700
TZOFFSETTO:-0800
TZNAME:PST
DTSTART:20231105T090000
END:STANDARD
BEGIN:DAYLIGHT
TZOFFSETFROM:-0800
TZOFFSETTO:-0700
TZNAME:PDT
DTSTART:20240310T100000
END:DAYLIGHT
BEGIN:STANDARD
TZOFFSETFROM:-0700
TZOFFSETTO:-0800
TZNAME:PST
DTSTART:20241103T090000
END:STANDARD
END:VTIMEZONE
BEGIN:VEVENT
DTSTART;TZID=America/Vancouver:20230829T080000
DTEND;TZID=America/Vancouver:20230831T170000
DTSTAMP:20260420T200111
CREATED:20230822T233611Z
LAST-MODIFIED:20230822T233611Z
UID:24927-1693296000-1693501200@www.nwic.edu
SUMMARY:Building Native Communities: Train the Trainer Workshop
DESCRIPTION:NWIC and First Nations Development Institute are pleased to announce a summer Building Native Communities: Financial Skills for Families Train-the-Trainer Workshop on Aug. 29 – 31. Back by popular demand\, this is a 2.5 day financial education certification workshop featuring in-depth instruction on the fifth edition Building Native Communities: Financial Skills for Families Curriculum with strategies and solutions for community driven financial education delivery. \nThis is a free event. Register here.
URL:https://www.nwic.edu/event/building-native-communities-train-the-trainer-workshop/
LOCATION:Log Building\, 2522 Kwina Rd.\, Bellingham\, WA\, 98226\, United States
CATEGORIES:Community
ATTACH;FMTTYPE=image/png:https://www.nwic.edu/wp-content/uploads/2023/08/image004.png
ORGANIZER;CN="Cooperative Extension":MAILTO:CooperativeExtension@nwic.edu
END:VEVENT
END:VCALENDAR