BEGIN:VCALENDAR
VERSION:2.0
PRODID:-//Northwest Indian College - ECPv6.15.20//NONSGML v1.0//EN
CALSCALE:GREGORIAN
METHOD:PUBLISH
X-ORIGINAL-URL:https://www.nwic.edu
X-WR-CALDESC:Events for Northwest Indian College
REFRESH-INTERVAL;VALUE=DURATION:PT1H
X-Robots-Tag:noindex
X-PUBLISHED-TTL:PT1H
BEGIN:VTIMEZONE
TZID:America/Vancouver
BEGIN:DAYLIGHT
TZOFFSETFROM:-0800
TZOFFSETTO:-0700
TZNAME:PDT
DTSTART:20220313T100000
END:DAYLIGHT
BEGIN:STANDARD
TZOFFSETFROM:-0700
TZOFFSETTO:-0800
TZNAME:PST
DTSTART:20221106T090000
END:STANDARD
BEGIN:DAYLIGHT
TZOFFSETFROM:-0800
TZOFFSETTO:-0700
TZNAME:PDT
DTSTART:20230312T100000
END:DAYLIGHT
BEGIN:STANDARD
TZOFFSETFROM:-0700
TZOFFSETTO:-0800
TZNAME:PST
DTSTART:20231105T090000
END:STANDARD
BEGIN:DAYLIGHT
TZOFFSETFROM:-0800
TZOFFSETTO:-0700
TZNAME:PDT
DTSTART:20240310T100000
END:DAYLIGHT
BEGIN:STANDARD
TZOFFSETFROM:-0700
TZOFFSETTO:-0800
TZNAME:PST
DTSTART:20241103T090000
END:STANDARD
END:VTIMEZONE
BEGIN:VEVENT
DTSTART;TZID=America/Vancouver:20231012T110000
DTEND;TZID=America/Vancouver:20231012T120000
DTSTAMP:20260423T053852
CREATED:20231018T031806Z
LAST-MODIFIED:20231018T031806Z
UID:25206-1697108400-1697112000@www.nwic.edu
SUMMARY:Walking for Wellness
DESCRIPTION:Join us on Tuesdays at 11 am and 1:30 pm and Thursdays at 1:30. Meet at the Lummi Campus – Eagle’s Market.
URL:https://www.nwic.edu/event/walking-for-wellness-2-2/
CATEGORIES:Wellness
ATTACH;FMTTYPE=image/jpeg:https://www.nwic.edu/wp-content/uploads/2023/10/386508696_811498404308540_9115629043680806310_n.jpg
ORGANIZER;CN="Heather Jefferson":MAILTO:hlj@nwic.edu
END:VEVENT
BEGIN:VEVENT
DTSTART;TZID=America/Vancouver:20231012T120000
DTEND;TZID=America/Vancouver:20231012T150000
DTSTAMP:20260423T053852
CREATED:20231121T071710Z
LAST-MODIFIED:20231121T071710Z
UID:25473-1697112000-1697122800@www.nwic.edu
SUMMARY:Community Food Pantry
DESCRIPTION:The Community Food Pantry is open to all on Thursdays from noon to 3 pm near the Eagle’s Market. The pantry provides meal kits and accepts donations as well.
URL:https://www.nwic.edu/event/community-food-pantry-2-3-2-2/
LOCATION:Eagle’s Market
CATEGORIES:Community
ATTACH;FMTTYPE=image/jpeg:https://www.nwic.edu/wp-content/uploads/2023/10/NWIC-Community-Food-Pantry-Updated.jpg
ORGANIZER;CN="Patrick Doran":MAILTO:pjdoran@nwic.edu
END:VEVENT
END:VCALENDAR