BEGIN:VCALENDAR
VERSION:2.0
PRODID:-//Northwest Indian College - ECPv6.15.20//NONSGML v1.0//EN
CALSCALE:GREGORIAN
METHOD:PUBLISH
X-ORIGINAL-URL:https://www.nwic.edu
X-WR-CALDESC:Events for Northwest Indian College
REFRESH-INTERVAL;VALUE=DURATION:PT1H
X-Robots-Tag:noindex
X-PUBLISHED-TTL:PT1H
BEGIN:VTIMEZONE
TZID:America/Vancouver
BEGIN:DAYLIGHT
TZOFFSETFROM:-0800
TZOFFSETTO:-0700
TZNAME:PDT
DTSTART:20220313T100000
END:DAYLIGHT
BEGIN:STANDARD
TZOFFSETFROM:-0700
TZOFFSETTO:-0800
TZNAME:PST
DTSTART:20221106T090000
END:STANDARD
BEGIN:DAYLIGHT
TZOFFSETFROM:-0800
TZOFFSETTO:-0700
TZNAME:PDT
DTSTART:20230312T100000
END:DAYLIGHT
BEGIN:STANDARD
TZOFFSETFROM:-0700
TZOFFSETTO:-0800
TZNAME:PST
DTSTART:20231105T090000
END:STANDARD
BEGIN:DAYLIGHT
TZOFFSETFROM:-0800
TZOFFSETTO:-0700
TZNAME:PDT
DTSTART:20240310T100000
END:DAYLIGHT
BEGIN:STANDARD
TZOFFSETFROM:-0700
TZOFFSETTO:-0800
TZNAME:PST
DTSTART:20241103T090000
END:STANDARD
END:VTIMEZONE
BEGIN:VEVENT
DTSTART;TZID=America/Vancouver:20231115T120000
DTEND;TZID=America/Vancouver:20231115T133000
DTSTAMP:20260423T013345
CREATED:20231128T001517Z
LAST-MODIFIED:20231128T001517Z
UID:25509-1700049600-1700055000@www.nwic.edu
SUMMARY:Wellness Wednesdays
DESCRIPTION:Join us for beading on Wednesdays in Lummi Campus – Bldg. 6 at noon.
URL:https://www.nwic.edu/event/wellness-wednesdays-5-2-2-2-2-2-2/
LOCATION:Lummi Campus\, Building 6
CATEGORIES:Wellness
ATTACH;FMTTYPE=image/jpeg:https://www.nwic.edu/wp-content/uploads/2023/10/Wellness-Wednesdays-Update.jpg
ORGANIZER;CN="Heather Jefferson":MAILTO:hlj@nwic.edu
END:VEVENT
BEGIN:VEVENT
DTSTART;TZID=America/Vancouver:20231115T150000
DTEND;TZID=America/Vancouver:20231115T170000
DTSTAMP:20260423T013345
CREATED:20231121T072852Z
LAST-MODIFIED:20231121T072852Z
UID:25477-1700060400-1700067600@www.nwic.edu
SUMMARY:Study Jam
DESCRIPTION:Join us for a Study Jam presented by Student Connections & NWIC Tutoring for virtual drop in and Zoom sessions from 3 to 5 pm: \n\nNov. 15\nNov. 17\nNov. 29\nDec. 1\nDec. 6\nDec. 8\n\n 
URL:https://www.nwic.edu/event/study-jam/
LOCATION:Zoom
CATEGORIES:Student Services
ATTACH;FMTTYPE=image/png:https://www.nwic.edu/wp-content/uploads/2023/11/image-4.png
ORGANIZER;CN="Joan Banel":MAILTO:jbanel@nwic.edu
END:VEVENT
END:VCALENDAR