BEGIN:VCALENDAR
VERSION:2.0
PRODID:-//Northwest Indian College - ECPv6.15.20//NONSGML v1.0//EN
CALSCALE:GREGORIAN
METHOD:PUBLISH
X-WR-CALNAME:Northwest Indian College
X-ORIGINAL-URL:https://www.nwic.edu
X-WR-CALDESC:Events for Northwest Indian College
REFRESH-INTERVAL;VALUE=DURATION:PT1H
X-Robots-Tag:noindex
X-PUBLISHED-TTL:PT1H
BEGIN:VTIMEZONE
TZID:America/Vancouver
BEGIN:DAYLIGHT
TZOFFSETFROM:-0800
TZOFFSETTO:-0700
TZNAME:PDT
DTSTART:20230312T100000
END:DAYLIGHT
BEGIN:STANDARD
TZOFFSETFROM:-0700
TZOFFSETTO:-0800
TZNAME:PST
DTSTART:20231105T090000
END:STANDARD
BEGIN:DAYLIGHT
TZOFFSETFROM:-0800
TZOFFSETTO:-0700
TZNAME:PDT
DTSTART:20240310T100000
END:DAYLIGHT
BEGIN:STANDARD
TZOFFSETFROM:-0700
TZOFFSETTO:-0800
TZNAME:PST
DTSTART:20241103T090000
END:STANDARD
BEGIN:DAYLIGHT
TZOFFSETFROM:-0800
TZOFFSETTO:-0700
TZNAME:PDT
DTSTART:20250309T100000
END:DAYLIGHT
BEGIN:STANDARD
TZOFFSETFROM:-0700
TZOFFSETTO:-0800
TZNAME:PST
DTSTART:20251102T090000
END:STANDARD
END:VTIMEZONE
BEGIN:VEVENT
DTSTART;TZID=America/Vancouver:20240307T100000
DTEND;TZID=America/Vancouver:20240307T140000
DTSTAMP:20260423T053827
CREATED:20240228T034716Z
LAST-MODIFIED:20240228T034716Z
UID:26064-1709805600-1709820000@www.nwic.edu
SUMMARY:U.S. Dept. of Transportation TCU Career Fair
DESCRIPTION:Join the U.S. Department of Transportation for their virtual Tribal Colleges & Universities Fair on Thurs. March 7 from 1-5 pm EST!\n\n\n\nLearn more athttps://app.brazenconnect.com/a/us-department-of-transportation/e/PDpYZ \n\n(Note: This is not an NWIC event. For information\, please visit the website provided)
URL:https://www.nwic.edu/event/dept-of-transportation-tcu-career-fair/
LOCATION:Zoom
ATTACH;FMTTYPE=image/jpeg:https://www.nwic.edu/wp-content/uploads/2024/02/7290250407465034133.jfif
END:VEVENT
BEGIN:VEVENT
DTSTART;TZID=America/Vancouver:20240307T110000
DTEND;TZID=America/Vancouver:20240307T120000
DTSTAMP:20260423T053827
CREATED:20240228T022130Z
LAST-MODIFIED:20240228T022130Z
UID:25972-1709809200-1709812800@www.nwic.edu
SUMMARY:Coffee & Conversations
DESCRIPTION:Hello NWIC family! Coffee & Conversations is back Every Thursday at 11:00am via zoom hosted by NWIC Student Connections. Please join students\, staff\, faculty\, and other NWIC community members as we meet virtually to spend some time via zoom getting to know each other. Drop in for 10 minutes or the whole hour to make some new connections or catch up with old friends.  You bring the coffee\, tea\, or whatever beverage you enjoy  and we supply the conversation. Join us on Zoom!
URL:https://www.nwic.edu/event/coffee-conversations-15/
LOCATION:Zoom
CATEGORIES:Student Services
ATTACH;FMTTYPE=image/png:https://www.nwic.edu/wp-content/uploads/2024/02/Coffee-and-Conversations.png
ORGANIZER;CN="Joan Banel":MAILTO:jbanel@nwic.edu
END:VEVENT
BEGIN:VEVENT
DTSTART;TZID=America/Vancouver:20240307T120000
DTEND;TZID=America/Vancouver:20240307T150000
DTSTAMP:20260423T053827
CREATED:20240228T022729Z
LAST-MODIFIED:20240228T022729Z
UID:25984-1709812800-1709823600@www.nwic.edu
SUMMARY:Community Food Pantry
DESCRIPTION:The Community Food Pantry is open to all on Thursdays from noon to 3 pm near the Eagle’s Market. The pantry provides meal kits and accepts donations as well.
URL:https://www.nwic.edu/event/community-food-pantry-13/
LOCATION:Eagle’s Market
CATEGORIES:Community
ATTACH;FMTTYPE=image/jpeg:https://www.nwic.edu/wp-content/uploads/2023/10/NWIC-Community-Food-Pantry-Updated.jpg
ORGANIZER;CN="Patrick Doran":MAILTO:pjdoran@nwic.edu
END:VEVENT
BEGIN:VEVENT
DTSTART;TZID=America/Vancouver:20240307T150000
DTEND;TZID=America/Vancouver:20240307T160000
DTSTAMP:20260423T053827
CREATED:20240228T024840Z
LAST-MODIFIED:20240228T024840Z
UID:26002-1709823600-1709827200@www.nwic.edu
SUMMARY:NWIC Space Center Meeting
DESCRIPTION:Join us on Thursdays at 3 pm to build rockets and prepare for launch competitions! The NWIC Space Center Club meets on Zoom or Lummi – Bldg. 8\, Room C-2 \nMeeting ID: 823 5150 3220 Passcode: 609660
URL:https://www.nwic.edu/event/nwic-space-center-meeting-10/
LOCATION:Lummi Main Campus – Bldg. 8\, Room CL-2
CATEGORIES:Student Club
ATTACH;FMTTYPE=image/png:https://www.nwic.edu/wp-content/uploads/2024/02/Rocket-Club-Flyer-1.png
ORGANIZER;CN="Lisa Redsteer":MAILTO:lmredsteer@nwic.edu
END:VEVENT
END:VCALENDAR