BEGIN:VCALENDAR
VERSION:2.0
PRODID:-//Northwest Indian College - ECPv6.15.20//NONSGML v1.0//EN
CALSCALE:GREGORIAN
METHOD:PUBLISH
X-ORIGINAL-URL:https://www.nwic.edu
X-WR-CALDESC:Events for Northwest Indian College
REFRESH-INTERVAL;VALUE=DURATION:PT1H
X-Robots-Tag:noindex
X-PUBLISHED-TTL:PT1H
BEGIN:VTIMEZONE
TZID:America/Vancouver
BEGIN:DAYLIGHT
TZOFFSETFROM:-0800
TZOFFSETTO:-0700
TZNAME:PDT
DTSTART:20240310T100000
END:DAYLIGHT
BEGIN:STANDARD
TZOFFSETFROM:-0700
TZOFFSETTO:-0800
TZNAME:PST
DTSTART:20241103T090000
END:STANDARD
BEGIN:DAYLIGHT
TZOFFSETFROM:-0800
TZOFFSETTO:-0700
TZNAME:PDT
DTSTART:20250309T100000
END:DAYLIGHT
BEGIN:STANDARD
TZOFFSETFROM:-0700
TZOFFSETTO:-0800
TZNAME:PST
DTSTART:20251102T090000
END:STANDARD
BEGIN:DAYLIGHT
TZOFFSETFROM:-0800
TZOFFSETTO:-0700
TZNAME:PDT
DTSTART:20260308T100000
END:DAYLIGHT
BEGIN:STANDARD
TZOFFSETFROM:-0700
TZOFFSETTO:-0800
TZNAME:PST
DTSTART:20261101T090000
END:STANDARD
END:VTIMEZONE
BEGIN:VEVENT
DTSTART;TZID=America/Vancouver:20250814T160000
DTEND;TZID=America/Vancouver:20250814T170000
DTSTAMP:20260422T184816
CREATED:20250808T190406Z
LAST-MODIFIED:20250808T190406Z
UID:27879-1755187200-1755190800@www.nwic.edu
SUMMARY:Virtual Scholarship Jam
DESCRIPTION:What: Scholarship Jam via Zoom (will be recorded) \nWhy: Learn the basics about scholarships\, how to apply\, and dates of current and upcoming scholarships \nWhen: Thursday August 14th at 4pm \nLink: https://nwic.zoom.us/j/82850573217?pwd=gB7SCpRC4NHvYaq3shZ9tyNfzK5mR6.1  \nContact jbanel@nwic.edu for more information
URL:https://www.nwic.edu/event/virtual-scholarship-jam/
LOCATION:Zoom
CATEGORIES:Student Services
ATTACH;FMTTYPE=image/jpeg:https://www.nwic.edu/wp-content/uploads/2025/08/Events-8.jpg
END:VEVENT
END:VCALENDAR