BEGIN:VCALENDAR
VERSION:2.0
PRODID:-//Northwest Indian College - ECPv6.15.20//NONSGML v1.0//EN
CALSCALE:GREGORIAN
METHOD:PUBLISH
X-WR-CALNAME:Northwest Indian College
X-ORIGINAL-URL:https://www.nwic.edu
X-WR-CALDESC:Events for Northwest Indian College
REFRESH-INTERVAL;VALUE=DURATION:PT1H
X-Robots-Tag:noindex
X-PUBLISHED-TTL:PT1H
BEGIN:VTIMEZONE
TZID:America/Vancouver
BEGIN:DAYLIGHT
TZOFFSETFROM:-0800
TZOFFSETTO:-0700
TZNAME:PDT
DTSTART:20240310T100000
END:DAYLIGHT
BEGIN:STANDARD
TZOFFSETFROM:-0700
TZOFFSETTO:-0800
TZNAME:PST
DTSTART:20241103T090000
END:STANDARD
BEGIN:DAYLIGHT
TZOFFSETFROM:-0800
TZOFFSETTO:-0700
TZNAME:PDT
DTSTART:20250309T100000
END:DAYLIGHT
BEGIN:STANDARD
TZOFFSETFROM:-0700
TZOFFSETTO:-0800
TZNAME:PST
DTSTART:20251102T090000
END:STANDARD
BEGIN:DAYLIGHT
TZOFFSETFROM:-0800
TZOFFSETTO:-0700
TZNAME:PDT
DTSTART:20260308T100000
END:DAYLIGHT
BEGIN:STANDARD
TZOFFSETFROM:-0700
TZOFFSETTO:-0800
TZNAME:PST
DTSTART:20261101T090000
END:STANDARD
END:VTIMEZONE
BEGIN:VEVENT
DTSTART;TZID=America/Vancouver:20250919T090000
DTEND;TZID=America/Vancouver:20250919T170000
DTSTAMP:20260423T141447
CREATED:20250904T182502Z
LAST-MODIFIED:20250905T175550Z
UID:27948-1758272400-1758301200@www.nwic.edu
SUMMARY:In-Person Fall 2025 New Student Orientation
DESCRIPTION:In-Person Fall 2025 New Student Orientation | NWIC Lummi Campus \nDate:Friday\, September 19\, 2025 \nTime: \n\n\nInfo Session: 9:00 AM – 12:00 PM \n\n\nSocial Activities & Refreshments: 1:00 PM – 5:00 PM \n\n\nLocation:Log Building – Building 15 Room 112NWIC Lummi Campus2522 Kwina Road\, Bellingham\, WA 98226 \nWe’re excited to welcome you to campus! Attend our In-Person New Student Orientation to meet staff\, faculty\, and fellow students\, get assistance with fall enrollment and student services\, and enjoy community-building activities. \n🍽️ Free breakfast and lunch provided!We strongly encourage local students to attend in person. \n✅ New Student Orientation Registration📧 Questions? Contact Justin Aceveda\, First Year Advisor – jaaceveda@nwic.edu
URL:https://www.nwic.edu/event/in-person-fall-2025-new-student-orientation/
LOCATION:Log Building\, 2522 Kwina Rd.\, Bellingham\, WA\, 98226\, United States
ORGANIZER;CN="Justin Aceveda":MAILTO:jaaceveda@nwic.edu
END:VEVENT
END:VCALENDAR