BEGIN:VCALENDAR
VERSION:2.0
PRODID:-//Northwest Indian College - ECPv6.15.20//NONSGML v1.0//EN
CALSCALE:GREGORIAN
METHOD:PUBLISH
X-WR-CALNAME:Northwest Indian College
X-ORIGINAL-URL:https://www.nwic.edu
X-WR-CALDESC:Events for Northwest Indian College
REFRESH-INTERVAL;VALUE=DURATION:PT1H
X-Robots-Tag:noindex
X-PUBLISHED-TTL:PT1H
BEGIN:VTIMEZONE
TZID:America/Vancouver
BEGIN:DAYLIGHT
TZOFFSETFROM:-0800
TZOFFSETTO:-0700
TZNAME:PDT
DTSTART:20220313T100000
END:DAYLIGHT
BEGIN:STANDARD
TZOFFSETFROM:-0700
TZOFFSETTO:-0800
TZNAME:PST
DTSTART:20221106T090000
END:STANDARD
BEGIN:DAYLIGHT
TZOFFSETFROM:-0800
TZOFFSETTO:-0700
TZNAME:PDT
DTSTART:20230312T100000
END:DAYLIGHT
BEGIN:STANDARD
TZOFFSETFROM:-0700
TZOFFSETTO:-0800
TZNAME:PST
DTSTART:20231105T090000
END:STANDARD
BEGIN:DAYLIGHT
TZOFFSETFROM:-0800
TZOFFSETTO:-0700
TZNAME:PDT
DTSTART:20240310T100000
END:DAYLIGHT
BEGIN:STANDARD
TZOFFSETFROM:-0700
TZOFFSETTO:-0800
TZNAME:PST
DTSTART:20241103T090000
END:STANDARD
END:VTIMEZONE
BEGIN:VEVENT
DTSTART;TZID=America/Vancouver:20231201T173000
DTEND;TZID=America/Vancouver:20231201T183000
DTSTAMP:20260423T070956
CREATED:20231018T031234Z
LAST-MODIFIED:20231018T031234Z
UID:25201-1701451800-1701455400@www.nwic.edu
SUMMARY:AIBL Club Meeting
DESCRIPTION:The American Indigenous Business Leaders meet on Fridays both in-person (Lummi campus – Bldg. 6) and via Zoom from 5:30 – 6:30 pm \nMeeting ID: 818 1391 5081Passcode: 161427
URL:https://www.nwic.edu/event/aibl-club-meeting-4-2/
CATEGORIES:Student Club
ORGANIZER;CN="Denise Neal":MAILTO:dneal@nwic.edu
END:VEVENT
BEGIN:VEVENT
DTSTART;TZID=America/Vancouver:20231202T120000
DTEND;TZID=America/Vancouver:20231202T150000
DTSTAMP:20260423T070956
CREATED:20231206T055317Z
LAST-MODIFIED:20231206T055317Z
UID:25541-1701518400-1701529200@www.nwic.edu
SUMMARY:Forest Garden Club Gardening
DESCRIPTION:Join the Forest Garden Club on Saturdays 12-3 to help plant their starts for the season.
URL:https://www.nwic.edu/event/forest-garden-club-gardening/
CATEGORIES:Student Club
ATTACH;FMTTYPE=image/png:https://www.nwic.edu/wp-content/uploads/2023/12/forest-garden-club-updated.png
ORGANIZER;CN="Anna Waschke":MAILTO:awaschke@nwic.edu
END:VEVENT
BEGIN:VEVENT
DTSTART;TZID=America/Vancouver:20231207T110000
DTEND;TZID=America/Vancouver:20231207T130000
DTSTAMP:20260423T070956
CREATED:20231206T054736Z
LAST-MODIFIED:20231206T054736Z
UID:25539-1701946800-1701954000@www.nwic.edu
SUMMARY:Indian Taco Fundraiser
DESCRIPTION:Support the AIBL club by purchasing an Indian taco! Available at the Eagle’s Market from 11 am until sold out.
URL:https://www.nwic.edu/event/indian-taco-fundraiser/
LOCATION:Eagle’s Market
CATEGORIES:Student Club
ATTACH;FMTTYPE=image/jpeg:https://www.nwic.edu/wp-content/uploads/2023/12/IMG_6707.jpeg
ORGANIZER;CN="American Indigenous Business Leaders Club":MAILTO:dneal@nwic.edu
END:VEVENT
BEGIN:VEVENT
DTSTART;TZID=America/Vancouver:20231208T173000
DTEND;TZID=America/Vancouver:20231208T183000
DTSTAMP:20260423T070956
CREATED:20231018T031313Z
LAST-MODIFIED:20231018T031313Z
UID:25202-1702056600-1702060200@www.nwic.edu
SUMMARY:AIBL Club Meeting
DESCRIPTION:The American Indigenous Business Leaders meet on Fridays both in-person (Lummi campus – Bldg. 6) and via Zoom from 5:30 – 6:30 pm \nMeeting ID: 818 1391 5081Passcode: 161427
URL:https://www.nwic.edu/event/aibl-club-meeting-4-2-2/
CATEGORIES:Student Club
ORGANIZER;CN="Denise Neal":MAILTO:dneal@nwic.edu
END:VEVENT
BEGIN:VEVENT
DTSTART;TZID=America/Vancouver:20231209T120000
DTEND;TZID=America/Vancouver:20231209T150000
DTSTAMP:20260423T070956
CREATED:20231206T055337Z
LAST-MODIFIED:20231206T055337Z
UID:25544-1702123200-1702134000@www.nwic.edu
SUMMARY:Forest Garden Club Gardening
DESCRIPTION:Join the Forest Garden Club on Saturdays 12-3 to help plant their starts for the season.
URL:https://www.nwic.edu/event/forest-garden-club-gardening-2/
CATEGORIES:Student Club
ATTACH;FMTTYPE=image/png:https://www.nwic.edu/wp-content/uploads/2023/12/forest-garden-club-updated.png
ORGANIZER;CN="Anna Waschke":MAILTO:awaschke@nwic.edu
END:VEVENT
BEGIN:VEVENT
DTSTART;TZID=America/Vancouver:20231215T173000
DTEND;TZID=America/Vancouver:20231215T183000
DTSTAMP:20260423T070956
CREATED:20231018T031338Z
LAST-MODIFIED:20231018T031338Z
UID:25203-1702661400-1702665000@www.nwic.edu
SUMMARY:AIBL Club Meeting
DESCRIPTION:The American Indigenous Business Leaders meet on Fridays both in-person (Lummi campus – Bldg. 6) and via Zoom from 5:30 – 6:30 pm \nMeeting ID: 818 1391 5081Passcode: 161427
URL:https://www.nwic.edu/event/aibl-club-meeting-4-2-2-2/
CATEGORIES:Student Club
ORGANIZER;CN="Denise Neal":MAILTO:dneal@nwic.edu
END:VEVENT
BEGIN:VEVENT
DTSTART;TZID=America/Vancouver:20231216T120000
DTEND;TZID=America/Vancouver:20231216T150000
DTSTAMP:20260423T070956
CREATED:20231206T055408Z
LAST-MODIFIED:20231206T055408Z
UID:25545-1702728000-1702738800@www.nwic.edu
SUMMARY:Forest Garden Club Gardening
DESCRIPTION:Join the Forest Garden Club on Saturdays 12-3 to help plant their starts for the season.
URL:https://www.nwic.edu/event/forest-garden-club-gardening-2-2/
CATEGORIES:Student Club
ATTACH;FMTTYPE=image/png:https://www.nwic.edu/wp-content/uploads/2023/12/forest-garden-club-updated.png
ORGANIZER;CN="Anna Waschke":MAILTO:awaschke@nwic.edu
END:VEVENT
BEGIN:VEVENT
DTSTART;TZID=America/Vancouver:20231223T120000
DTEND;TZID=America/Vancouver:20231223T150000
DTSTAMP:20260423T070956
CREATED:20231206T055639Z
LAST-MODIFIED:20231206T055639Z
UID:25547-1703332800-1703343600@www.nwic.edu
SUMMARY:Forest Garden Club Gardening
DESCRIPTION:Join the Forest Garden Club on Saturdays 12-3 to help plant their starts for the season.
URL:https://www.nwic.edu/event/forest-garden-club-gardening-2-2-2-2/
CATEGORIES:Student Club
ATTACH;FMTTYPE=image/png:https://www.nwic.edu/wp-content/uploads/2023/12/forest-garden-club-updated.png
ORGANIZER;CN="Anna Waschke":MAILTO:awaschke@nwic.edu
END:VEVENT
BEGIN:VEVENT
DTSTART;TZID=America/Vancouver:20231230T120000
DTEND;TZID=America/Vancouver:20231230T150000
DTSTAMP:20260423T070956
CREATED:20231206T055437Z
LAST-MODIFIED:20231206T055437Z
UID:25546-1703937600-1703948400@www.nwic.edu
SUMMARY:Forest Garden Club Gardening
DESCRIPTION:Join the Forest Garden Club on Saturdays 12-3 to help plant their starts for the season.
URL:https://www.nwic.edu/event/forest-garden-club-gardening-2-2-2/
CATEGORIES:Student Club
ATTACH;FMTTYPE=image/png:https://www.nwic.edu/wp-content/uploads/2023/12/forest-garden-club-updated.png
ORGANIZER;CN="Anna Waschke":MAILTO:awaschke@nwic.edu
END:VEVENT
END:VCALENDAR