BEGIN:VCALENDAR
VERSION:2.0
PRODID:-//Northwest Indian College - ECPv6.15.20//NONSGML v1.0//EN
CALSCALE:GREGORIAN
METHOD:PUBLISH
X-WR-CALNAME:Northwest Indian College
X-ORIGINAL-URL:https://www.nwic.edu
X-WR-CALDESC:Events for Northwest Indian College
REFRESH-INTERVAL;VALUE=DURATION:PT1H
X-Robots-Tag:noindex
X-PUBLISHED-TTL:PT1H
BEGIN:VTIMEZONE
TZID:America/Vancouver
BEGIN:DAYLIGHT
TZOFFSETFROM:-0800
TZOFFSETTO:-0700
TZNAME:PDT
DTSTART:20230312T100000
END:DAYLIGHT
BEGIN:STANDARD
TZOFFSETFROM:-0700
TZOFFSETTO:-0800
TZNAME:PST
DTSTART:20231105T090000
END:STANDARD
BEGIN:DAYLIGHT
TZOFFSETFROM:-0800
TZOFFSETTO:-0700
TZNAME:PDT
DTSTART:20240310T100000
END:DAYLIGHT
BEGIN:STANDARD
TZOFFSETFROM:-0700
TZOFFSETTO:-0800
TZNAME:PST
DTSTART:20241103T090000
END:STANDARD
BEGIN:DAYLIGHT
TZOFFSETFROM:-0800
TZOFFSETTO:-0700
TZNAME:PDT
DTSTART:20250309T100000
END:DAYLIGHT
BEGIN:STANDARD
TZOFFSETFROM:-0700
TZOFFSETTO:-0800
TZNAME:PST
DTSTART:20251102T090000
END:STANDARD
END:VTIMEZONE
BEGIN:VEVENT
DTSTART;TZID=America/Vancouver:20240109T090000
DTEND;TZID=America/Vancouver:20240109T150000
DTSTAMP:20260423T083030
CREATED:20240110T184509Z
LAST-MODIFIED:20240110T184509Z
UID:25632-1704790800-1704812400@www.nwic.edu
SUMMARY:Jam Packed Tuesdays
DESCRIPTION:The Music Club is hosting weekly “Jam Packed Tuesdays” with a series of events \n\n9 – 11 am in the Bldg. 5 Annex — Podcast Production\n11 am – noon via Zoom — Virtual Club Meeting\nNoon – 3 pm — Wellness Jam
URL:https://www.nwic.edu/event/jam-packed-tuesdays/
LOCATION:Building 5\, Annex
CATEGORIES:Student Club
ATTACH;FMTTYPE=image/jpeg:https://www.nwic.edu/wp-content/uploads/2024/01/Winter-24-Music-Club-Flyer-1.jpg
END:VEVENT
BEGIN:VEVENT
DTSTART;TZID=America/Vancouver:20240111T150000
DTEND;TZID=America/Vancouver:20240111T160000
DTSTAMP:20260423T083030
CREATED:20240228T024320Z
LAST-MODIFIED:20240228T024320Z
UID:25998-1704985200-1704988800@www.nwic.edu
SUMMARY:NWIC Space Center Meeting
DESCRIPTION:Join us on Thursdays at 3 pm to build rockets and prepare for launch competitions! The NWIC Space Center Club meets on Zoom or Lummi – Bldg. 8\, Room C-2 \nMeeting ID: 823 5150 3220 Passcode: 609660
URL:https://www.nwic.edu/event/nwic-space-center-meeting-8/
LOCATION:Lummi Main Campus – Bldg. 8\, Room CL-2
CATEGORIES:Student Club
ATTACH;FMTTYPE=image/png:https://www.nwic.edu/wp-content/uploads/2024/02/Rocket-Club-Flyer-1.png
ORGANIZER;CN="Lisa Redsteer":MAILTO:lmredsteer@nwic.edu
END:VEVENT
BEGIN:VEVENT
DTSTART;TZID=America/Vancouver:20240116T090000
DTEND;TZID=America/Vancouver:20240116T150000
DTSTAMP:20260423T083030
CREATED:20240110T184538Z
LAST-MODIFIED:20240110T184538Z
UID:25634-1705395600-1705417200@www.nwic.edu
SUMMARY:Jam Packed Tuesdays
DESCRIPTION:The Music Club is hosting weekly “Jam Packed Tuesdays” with a series of events \n\n9 – 11 am in the Bldg. 5 Annex — Podcast Production\n11 am – noon via Zoom — Virtual Club Meeting\nNoon – 3 pm — Wellness Jam
URL:https://www.nwic.edu/event/jam-packed-tuesdays-2/
LOCATION:Building 5\, Annex
CATEGORIES:Student Club
ATTACH;FMTTYPE=image/jpeg:https://www.nwic.edu/wp-content/uploads/2024/01/Winter-24-Music-Club-Flyer-1.jpg
END:VEVENT
BEGIN:VEVENT
DTSTART;TZID=America/Vancouver:20240118T150000
DTEND;TZID=America/Vancouver:20240118T160000
DTSTAMP:20260423T083030
CREATED:20240228T024300Z
LAST-MODIFIED:20240228T024300Z
UID:25997-1705590000-1705593600@www.nwic.edu
SUMMARY:NWIC Space Center Meeting
DESCRIPTION:Join us on Thursdays at 3 pm to build rockets and prepare for launch competitions! The NWIC Space Center Club meets on Zoom or Lummi – Bldg. 8\, Room C-2 \nMeeting ID: 823 5150 3220 Passcode: 609660
URL:https://www.nwic.edu/event/nwic-space-center-meeting-7/
LOCATION:Lummi Main Campus – Bldg. 8\, Room CL-2
CATEGORIES:Student Club
ATTACH;FMTTYPE=image/png:https://www.nwic.edu/wp-content/uploads/2024/02/Rocket-Club-Flyer-1.png
ORGANIZER;CN="Lisa Redsteer":MAILTO:lmredsteer@nwic.edu
END:VEVENT
BEGIN:VEVENT
DTSTART;TZID=America/Vancouver:20240123T090000
DTEND;TZID=America/Vancouver:20240123T150000
DTSTAMP:20260423T083030
CREATED:20240110T184920Z
LAST-MODIFIED:20240110T184920Z
UID:25636-1706000400-1706022000@www.nwic.edu
SUMMARY:Jam Packed Tuesdays
DESCRIPTION:The Music Club is hosting weekly “Jam Packed Tuesdays” with a series of events \n\n9 – 11 am in the Bldg. 5 Annex — Podcast Production\n11 am – noon via Zoom — Virtual Club Meeting\nNoon – 3 pm — Wellness Jam
URL:https://www.nwic.edu/event/jam-packed-tuesdays-2-2-2/
LOCATION:Building 5\, Annex
CATEGORIES:Student Club
ATTACH;FMTTYPE=image/jpeg:https://www.nwic.edu/wp-content/uploads/2024/01/Winter-24-Music-Club-Flyer-1.jpg
END:VEVENT
BEGIN:VEVENT
DTSTART;TZID=America/Vancouver:20240125T150000
DTEND;TZID=America/Vancouver:20240125T160000
DTSTAMP:20260423T083030
CREATED:20240228T024238Z
LAST-MODIFIED:20240228T024238Z
UID:25996-1706194800-1706198400@www.nwic.edu
SUMMARY:NWIC Space Center Meeting
DESCRIPTION:Join us on Thursdays at 3 pm to build rockets and prepare for launch competitions! The NWIC Space Center Club meets on Zoom or Lummi – Bldg. 8\, Room C-2 \nMeeting ID: 823 5150 3220 Passcode: 609660
URL:https://www.nwic.edu/event/nwic-space-center-meeting-6/
LOCATION:Lummi Main Campus – Bldg. 8\, Room CL-2
CATEGORIES:Student Club
ATTACH;FMTTYPE=image/png:https://www.nwic.edu/wp-content/uploads/2024/02/Rocket-Club-Flyer-1.png
ORGANIZER;CN="Lisa Redsteer":MAILTO:lmredsteer@nwic.edu
END:VEVENT
BEGIN:VEVENT
DTSTART;TZID=America/Vancouver:20240130T090000
DTEND;TZID=America/Vancouver:20240130T150000
DTSTAMP:20260423T083030
CREATED:20240110T184759Z
LAST-MODIFIED:20240110T184759Z
UID:25635-1706605200-1706626800@www.nwic.edu
SUMMARY:Jam Packed Tuesdays
DESCRIPTION:The Music Club is hosting weekly “Jam Packed Tuesdays” with a series of events \n\n9 – 11 am in the Bldg. 5 Annex — Podcast Production\n11 am – noon via Zoom — Virtual Club Meeting\nNoon – 3 pm — Wellness Jam
URL:https://www.nwic.edu/event/jam-packed-tuesdays-2-2/
LOCATION:Building 5\, Annex
CATEGORIES:Student Club
ATTACH;FMTTYPE=image/jpeg:https://www.nwic.edu/wp-content/uploads/2024/01/Winter-24-Music-Club-Flyer-1.jpg
END:VEVENT
END:VCALENDAR