BEGIN:VCALENDAR
VERSION:2.0
PRODID:-//Northwest Indian College - ECPv6.15.20//NONSGML v1.0//EN
CALSCALE:GREGORIAN
METHOD:PUBLISH
X-ORIGINAL-URL:https://www.nwic.edu
X-WR-CALDESC:Events for Northwest Indian College
REFRESH-INTERVAL;VALUE=DURATION:PT1H
X-Robots-Tag:noindex
X-PUBLISHED-TTL:PT1H
BEGIN:VTIMEZONE
TZID:America/Vancouver
BEGIN:DAYLIGHT
TZOFFSETFROM:-0800
TZOFFSETTO:-0700
TZNAME:PDT
DTSTART:20230312T100000
END:DAYLIGHT
BEGIN:STANDARD
TZOFFSETFROM:-0700
TZOFFSETTO:-0800
TZNAME:PST
DTSTART:20231105T090000
END:STANDARD
BEGIN:DAYLIGHT
TZOFFSETFROM:-0800
TZOFFSETTO:-0700
TZNAME:PDT
DTSTART:20240310T100000
END:DAYLIGHT
BEGIN:STANDARD
TZOFFSETFROM:-0700
TZOFFSETTO:-0800
TZNAME:PST
DTSTART:20241103T090000
END:STANDARD
BEGIN:DAYLIGHT
TZOFFSETFROM:-0800
TZOFFSETTO:-0700
TZNAME:PDT
DTSTART:20250309T100000
END:DAYLIGHT
BEGIN:STANDARD
TZOFFSETFROM:-0700
TZOFFSETTO:-0800
TZNAME:PST
DTSTART:20251102T090000
END:STANDARD
END:VTIMEZONE
BEGIN:VEVENT
DTSTART;TZID=America/Vancouver:20240702T190000
DTEND;TZID=America/Vancouver:20240702T210000
DTSTAMP:20260423T223540
CREATED:20240716T194316Z
LAST-MODIFIED:20240716T194316Z
UID:26683-1719946800-1719954000@www.nwic.edu
SUMMARY:NWIC Family Canoe
DESCRIPTION:Meet us at the Eagle’s Market (Lummi – Bldg. 13) for some paddling! Light snacks and transportation provided. Transportation is for those 18+. \nLaunch location and time subject to change\, based on tides and weather conditions. For the most up-to-date information\, visit our Facebook page or contact Fiafia at fel@nwic.edu
URL:https://www.nwic.edu/event/nwic-family-canoe-3-2-2/
LOCATION:Eagle’s Market
CATEGORIES:Student Club
ATTACH;FMTTYPE=image/jpeg:https://www.nwic.edu/wp-content/uploads/2024/07/image-9.jpg
ORGANIZER;CN="Fiafia Lamositele":MAILTO:fel@nwic.edu
END:VEVENT
BEGIN:VEVENT
DTSTART;TZID=America/Vancouver:20240704T120000
DTEND;TZID=America/Vancouver:20240704T140000
DTSTAMP:20260423T223540
CREATED:20240716T194200Z
LAST-MODIFIED:20240716T194200Z
UID:26680-1720094400-1720101600@www.nwic.edu
SUMMARY:NWIC Family Canoe
DESCRIPTION:Meet us at the Eagle’s Market (Lummi – Bldg. 13) for some paddling! Light snacks and transportation provided. Transportation is for those 18+. \nLaunch location and time subject to change\, based on tides and weather conditions. For the most up-to-date information\, visit our Facebook page or contact Fiafia at fel@nwic.edu
URL:https://www.nwic.edu/event/nwic-family-canoe-3/
LOCATION:Eagle’s Market
CATEGORIES:Student Club
ATTACH;FMTTYPE=image/jpeg:https://www.nwic.edu/wp-content/uploads/2024/07/Canoe-Update-7.3.24.jpg
ORGANIZER;CN="Fiafia Lamositele":MAILTO:fel@nwic.edu
END:VEVENT
BEGIN:VEVENT
DTSTART;TZID=America/Vancouver:20240706T120000
DTEND;TZID=America/Vancouver:20240706T140000
DTSTAMP:20260423T223540
CREATED:20240716T194223Z
LAST-MODIFIED:20240716T194223Z
UID:26682-1720267200-1720274400@www.nwic.edu
SUMMARY:NWIC Family Canoe
DESCRIPTION:Meet us at the Eagle’s Market (Lummi – Bldg. 13) for some paddling! Light snacks and transportation provided. Transportation is for those 18+. \nLaunch location and time subject to change\, based on tides and weather conditions. For the most up-to-date information\, visit our Facebook page or contact Fiafia at fel@nwic.edu
URL:https://www.nwic.edu/event/nwic-family-canoe-3-2/
LOCATION:Eagle’s Market
CATEGORIES:Student Club
ATTACH;FMTTYPE=image/jpeg:https://www.nwic.edu/wp-content/uploads/2024/07/Canoe-Update-7.3.24.jpg
ORGANIZER;CN="Fiafia Lamositele":MAILTO:fel@nwic.edu
END:VEVENT
BEGIN:VEVENT
DTSTART;TZID=America/Vancouver:20240716T190000
DTEND;TZID=America/Vancouver:20240716T210000
DTSTAMP:20260423T223540
CREATED:20240716T192635Z
LAST-MODIFIED:20240716T192635Z
UID:26662-1721156400-1721163600@www.nwic.edu
SUMMARY:NWIC Family Canoe
DESCRIPTION:Meet us at the Eagle’s Market (Lummi – Bldg. 13) for some paddling! Light snacks and transportation provided. Transportation is for those 18+. \nLaunch location and time subject to change\, based on tides and weather conditions. For the most up-to-date information\, visit our Facebook page or contact Fiafia at fel@nwic.edu
URL:https://www.nwic.edu/event/nwic-family-canoe/
LOCATION:Eagle’s Market
CATEGORIES:Student Club
ATTACH;FMTTYPE=image/jpeg:https://www.nwic.edu/wp-content/uploads/2024/07/Events-2.jpg
ORGANIZER;CN="Fiafia Lamositele":MAILTO:fel@nwic.edu
END:VEVENT
BEGIN:VEVENT
DTSTART;TZID=America/Vancouver:20240718T190000
DTEND;TZID=America/Vancouver:20240718T210000
DTSTAMP:20260423T223540
CREATED:20240716T192654Z
LAST-MODIFIED:20240716T192654Z
UID:26665-1721329200-1721336400@www.nwic.edu
SUMMARY:NWIC Family Canoe
DESCRIPTION:Meet us at the Eagle’s Market (Lummi – Bldg. 13) for some paddling! Light snacks and transportation provided. Transportation is for those 18+. \nLaunch location and time subject to change\, based on tides and weather conditions. For the most up-to-date information\, visit our Facebook page or contact Fiafia at fel@nwic.edu
URL:https://www.nwic.edu/event/nwic-family-canoe-2/
LOCATION:Eagle’s Market
CATEGORIES:Student Club
ATTACH;FMTTYPE=image/jpeg:https://www.nwic.edu/wp-content/uploads/2024/07/Events-2.jpg
ORGANIZER;CN="Fiafia Lamositele":MAILTO:fel@nwic.edu
END:VEVENT
BEGIN:VEVENT
DTSTART;TZID=America/Vancouver:20240720T120000
DTEND;TZID=America/Vancouver:20240720T140000
DTSTAMP:20260423T223540
CREATED:20240716T192722Z
LAST-MODIFIED:20240716T192722Z
UID:26666-1721476800-1721484000@www.nwic.edu
SUMMARY:NWIC Family Canoe
DESCRIPTION:Meet us at the Eagle’s Market (Lummi – Bldg. 13) for some paddling! Light snacks and transportation provided. Transportation is for those 18+. \nLaunch location and time subject to change\, based on tides and weather conditions. For the most up-to-date information\, visit our Facebook page or contact Fiafia at fel@nwic.edu
URL:https://www.nwic.edu/event/nwic-family-canoe-2-2/
LOCATION:Eagle’s Market
CATEGORIES:Student Club
ATTACH;FMTTYPE=image/jpeg:https://www.nwic.edu/wp-content/uploads/2024/07/Events-2.jpg
ORGANIZER;CN="Fiafia Lamositele":MAILTO:fel@nwic.edu
END:VEVENT
BEGIN:VEVENT
DTSTART;TZID=America/Vancouver:20240720T170000
DTEND;TZID=America/Vancouver:20240720T190000
DTSTAMP:20260423T223540
CREATED:20240716T192856Z
LAST-MODIFIED:20240716T192856Z
UID:26667-1721494800-1721502000@www.nwic.edu
SUMMARY:NWIC Family Canoe Dinner
DESCRIPTION:Meet us in the Cafeteria (Lummi – Bldg. 19B) for a dinner to prepare for the upcoming Canoe Journey! \nFor the most up-to-date information\, visit our Facebook page or contact Fiafia at fel@nwic.edu
URL:https://www.nwic.edu/event/nwic-family-canoe-2-2-2/
LOCATION:NWIC Cafeteria\, 2522 Kwina Rd.\, Bellingham\, WA\, 98226\, United States
CATEGORIES:Student Club
ATTACH;FMTTYPE=image/jpeg:https://www.nwic.edu/wp-content/uploads/2024/07/Events-2.jpg
ORGANIZER;CN="Fiafia Lamositele":MAILTO:fel@nwic.edu
END:VEVENT
END:VCALENDAR