BEGIN:VCALENDAR
VERSION:2.0
PRODID:-//Northwest Indian College - ECPv6.15.20//NONSGML v1.0//EN
CALSCALE:GREGORIAN
METHOD:PUBLISH
X-ORIGINAL-URL:https://www.nwic.edu
X-WR-CALDESC:Events for Northwest Indian College
REFRESH-INTERVAL;VALUE=DURATION:PT1H
X-Robots-Tag:noindex
X-PUBLISHED-TTL:PT1H
BEGIN:VTIMEZONE
TZID:America/Vancouver
BEGIN:DAYLIGHT
TZOFFSETFROM:-0800
TZOFFSETTO:-0700
TZNAME:PDT
DTSTART:20230312T100000
END:DAYLIGHT
BEGIN:STANDARD
TZOFFSETFROM:-0700
TZOFFSETTO:-0800
TZNAME:PST
DTSTART:20231105T090000
END:STANDARD
BEGIN:DAYLIGHT
TZOFFSETFROM:-0800
TZOFFSETTO:-0700
TZNAME:PDT
DTSTART:20240310T100000
END:DAYLIGHT
BEGIN:STANDARD
TZOFFSETFROM:-0700
TZOFFSETTO:-0800
TZNAME:PST
DTSTART:20241103T090000
END:STANDARD
BEGIN:DAYLIGHT
TZOFFSETFROM:-0800
TZOFFSETTO:-0700
TZNAME:PDT
DTSTART:20250309T100000
END:DAYLIGHT
BEGIN:STANDARD
TZOFFSETFROM:-0700
TZOFFSETTO:-0800
TZNAME:PST
DTSTART:20251102T090000
END:STANDARD
END:VTIMEZONE
BEGIN:VEVENT
DTSTART;TZID=America/Vancouver:20240216T143000
DTEND;TZID=America/Vancouver:20240216T153000
DTSTAMP:20260423T154711
CREATED:20240228T025702Z
LAST-MODIFIED:20240228T025702Z
UID:26003-1708093800-1708097400@www.nwic.edu
SUMMARY:Two-Spirit LGBTQIA+ Group
DESCRIPTION:Join the Two-Spirit LGBTQIA+ Group in person or online! Join us in Lummi – Bldg. 14 or on Zoom (link and password in the weekly NWIC Announcement emails). For questions or Zoom link\, contact fel@nwic.edu
URL:https://www.nwic.edu/event/two-spirit-lgbtqia-group/
LOCATION:NWIC Student Union Bldg (#14)\, 2522 Kwina Rd\, Bellingham\, WA\, 98226\, United States
CATEGORIES:Student Club
ATTACH;FMTTYPE=image/jpeg:https://www.nwic.edu/wp-content/uploads/2024/02/2SLGBTQIA-Meeting-1-1.jpg
ORGANIZER;CN="Fiafia Lamositele":MAILTO:fel@nwic.edu
END:VEVENT
END:VCALENDAR