BEGIN:VCALENDAR
VERSION:2.0
PRODID:-//Northwest Indian College - ECPv6.15.20//NONSGML v1.0//EN
CALSCALE:GREGORIAN
METHOD:PUBLISH
X-ORIGINAL-URL:https://www.nwic.edu
X-WR-CALDESC:Events for Northwest Indian College
REFRESH-INTERVAL;VALUE=DURATION:PT1H
X-Robots-Tag:noindex
X-PUBLISHED-TTL:PT1H
BEGIN:VTIMEZONE
TZID:America/Vancouver
BEGIN:DAYLIGHT
TZOFFSETFROM:-0800
TZOFFSETTO:-0700
TZNAME:PDT
DTSTART:20230312T100000
END:DAYLIGHT
BEGIN:STANDARD
TZOFFSETFROM:-0700
TZOFFSETTO:-0800
TZNAME:PST
DTSTART:20231105T090000
END:STANDARD
BEGIN:DAYLIGHT
TZOFFSETFROM:-0800
TZOFFSETTO:-0700
TZNAME:PDT
DTSTART:20240310T100000
END:DAYLIGHT
BEGIN:STANDARD
TZOFFSETFROM:-0700
TZOFFSETTO:-0800
TZNAME:PST
DTSTART:20241103T090000
END:STANDARD
BEGIN:DAYLIGHT
TZOFFSETFROM:-0800
TZOFFSETTO:-0700
TZNAME:PDT
DTSTART:20250309T100000
END:DAYLIGHT
BEGIN:STANDARD
TZOFFSETFROM:-0700
TZOFFSETTO:-0800
TZNAME:PST
DTSTART:20251102T090000
END:STANDARD
END:VTIMEZONE
BEGIN:VEVENT
DTSTART;TZID=America/Vancouver:20240424T170000
DTEND;TZID=America/Vancouver:20240424T200000
DTSTAMP:20260424T010400
CREATED:20240506T235812Z
LAST-MODIFIED:20240506T235812Z
UID:26398-1713978000-1713988800@www.nwic.edu
SUMMARY:Studio After Hours
DESCRIPTION:The Music Club is hosting weekly Wellness Jamz! Join us! \n\nVirtual Club Meeting: Tuesdays 12-1 (Zoom)\nWellness Jamz: Tuesdays 1-4 pm & Fridays noon-3 pm\, Lummi – Bldg. 5\nStudio After Hours: Wednesdays 5-8 pm
URL:https://www.nwic.edu/event/studio-after-hours-9/
LOCATION:Building 5\, Annex
CATEGORIES:Student Club
ATTACH;FMTTYPE=image/jpeg:https://www.nwic.edu/wp-content/uploads/2024/05/Spring-24-Music-Club-Flyer.jpg
END:VEVENT
BEGIN:VEVENT
DTSTART;TZID=America/Vancouver:20240426T120000
DTEND;TZID=America/Vancouver:20240426T150000
DTSTAMP:20260424T010400
CREATED:20240506T235118Z
LAST-MODIFIED:20240506T235118Z
UID:26382-1714132800-1714143600@www.nwic.edu
SUMMARY:Wellness Jamz
DESCRIPTION:The Music Club is hosting weekly Wellness Jamz! Join us! \n\nVirtual Club Meeting: Tuesdays 12-1 (Zoom)\nWellness Jamz: Tuesdays 1-4 pm & Fridays noon-3 pm\, Lummi – Bldg. 5\nStudio After Hours: Wednesdays 5-8 pm
URL:https://www.nwic.edu/event/wellness-jamz-13/
LOCATION:Building 5\, Annex
CATEGORIES:Student Club,Wellness
ATTACH;FMTTYPE=image/jpeg:https://www.nwic.edu/wp-content/uploads/2024/05/Spring-24-Music-Club-Flyer.jpg
END:VEVENT
BEGIN:VEVENT
DTSTART;TZID=America/Vancouver:20240427T120000
DTEND;TZID=America/Vancouver:20240427T150000
DTSTAMP:20260424T010400
CREATED:20240507T010915Z
LAST-MODIFIED:20240507T010915Z
UID:26479-1714219200-1714230000@www.nwic.edu
SUMMARY:Forest Garden Club
DESCRIPTION:Join us in putting together the gardens on campus! Meet us in the garden outside of Lummi – Bldg. 8 on Saturdays noon to 3 pm! Questions? Contact Anna Wascke at awaschke@nwic.edu
URL:https://www.nwic.edu/event/forest-garden-club-12/
LOCATION:Lummi Main Campus – Bldg. 8\, Room CL-2
CATEGORIES:Student Club
ORGANIZER;CN="Anna Waschke":MAILTO:awaschke@nwic.edu
END:VEVENT
BEGIN:VEVENT
DTSTART;TZID=America/Vancouver:20240430T120000
DTEND;TZID=America/Vancouver:20240430T130000
DTSTAMP:20260424T010400
CREATED:20240506T234148Z
LAST-MODIFIED:20240506T234148Z
UID:26361-1714478400-1714482000@www.nwic.edu
SUMMARY:Music Club Virtual Meeting
DESCRIPTION:The Music Club is hosting weekly meetings and a series of musical events \n\nVirtual Club Meeting: Tuesdays 12-1 (Zoom)\nWellness Jamz: Tuesdays 1-4 pm & Fridays noon-3 pm\, Lummi – Bldg. 5\nStudio After Hours: Wednesdays 5-8 pm
URL:https://www.nwic.edu/event/music-club-virtual-meeting-4/
LOCATION:Zoom
CATEGORIES:Student Club
ATTACH;FMTTYPE=image/jpeg:https://www.nwic.edu/wp-content/uploads/2024/05/Spring-24-Music-Club-Flyer.jpg
END:VEVENT
BEGIN:VEVENT
DTSTART;TZID=America/Vancouver:20240430T130000
DTEND;TZID=America/Vancouver:20240430T160000
DTSTAMP:20260424T010400
CREATED:20240506T234853Z
LAST-MODIFIED:20240506T234853Z
UID:26376-1714482000-1714492800@www.nwic.edu
SUMMARY:Wellness Jamz
DESCRIPTION:The Music Club is hosting weekly Wellness Jamz! Join us! \n\nVirtual Club Meeting: Tuesdays 12-1 (Zoom)\nWellness Jamz: Tuesdays 1-4 pm & Fridays noon-3 pm\, Lummi – Bldg. 5\nStudio After Hours: Wednesdays 5-8 pm
URL:https://www.nwic.edu/event/wellness-jamz-7/
LOCATION:Building 5\, Annex
CATEGORIES:Student Club,Wellness
ATTACH;FMTTYPE=image/jpeg:https://www.nwic.edu/wp-content/uploads/2024/05/Spring-24-Music-Club-Flyer.jpg
END:VEVENT
BEGIN:VEVENT
DTSTART;TZID=America/Vancouver:20240501T160000
DTEND;TZID=America/Vancouver:20240501T180000
DTSTAMP:20260424T010400
CREATED:20240507T001816Z
LAST-MODIFIED:20240507T001816Z
UID:26422-1714579200-1714586400@www.nwic.edu
SUMMARY:RC Club Meeting
DESCRIPTION:Join the RC Club in weekly meeting! Questions? Contact Calvin Miller at cmmiller@nwic.edu
URL:https://www.nwic.edu/event/rc-club-meeting-4/
LOCATION:Lummi Campus – Bldg. 11
CATEGORIES:Student Club
ATTACH;FMTTYPE=image/png:https://www.nwic.edu/wp-content/uploads/2024/05/RC-Club-Spring-24-Flyer.png
ORGANIZER;CN="Calvin Miller":MAILTO:cmmiller@nwic.edu
END:VEVENT
BEGIN:VEVENT
DTSTART;TZID=America/Vancouver:20240501T170000
DTEND;TZID=America/Vancouver:20240501T200000
DTSTAMP:20260424T010400
CREATED:20240506T235745Z
LAST-MODIFIED:20240506T235745Z
UID:26397-1714582800-1714593600@www.nwic.edu
SUMMARY:Studio After Hours
DESCRIPTION:The Music Club is hosting weekly Wellness Jamz! Join us! \n\nVirtual Club Meeting: Tuesdays 12-1 (Zoom)\nWellness Jamz: Tuesdays 1-4 pm & Fridays noon-3 pm\, Lummi – Bldg. 5\nStudio After Hours: Wednesdays 5-8 pm
URL:https://www.nwic.edu/event/studio-after-hours-8/
LOCATION:Building 5\, Annex
CATEGORIES:Student Club
ATTACH;FMTTYPE=image/jpeg:https://www.nwic.edu/wp-content/uploads/2024/05/Spring-24-Music-Club-Flyer.jpg
END:VEVENT
BEGIN:VEVENT
DTSTART;TZID=America/Vancouver:20240503T120000
DTEND;TZID=America/Vancouver:20240503T150000
DTSTAMP:20260424T010400
CREATED:20240506T235143Z
LAST-MODIFIED:20240506T235143Z
UID:26383-1714737600-1714748400@www.nwic.edu
SUMMARY:Wellness Jamz
DESCRIPTION:The Music Club is hosting weekly Wellness Jamz! Join us! \n\nVirtual Club Meeting: Tuesdays 12-1 (Zoom)\nWellness Jamz: Tuesdays 1-4 pm & Fridays noon-3 pm\, Lummi – Bldg. 5\nStudio After Hours: Wednesdays 5-8 pm
URL:https://www.nwic.edu/event/wellness-jamz-14/
LOCATION:Building 5\, Annex
CATEGORIES:Student Club,Wellness
ATTACH;FMTTYPE=image/jpeg:https://www.nwic.edu/wp-content/uploads/2024/05/Spring-24-Music-Club-Flyer.jpg
END:VEVENT
BEGIN:VEVENT
DTSTART;TZID=America/Vancouver:20240504T120000
DTEND;TZID=America/Vancouver:20240504T150000
DTSTAMP:20260424T010400
CREATED:20240507T010936Z
LAST-MODIFIED:20240507T010948Z
UID:26480-1714824000-1714834800@www.nwic.edu
SUMMARY:Forest Garden Club
DESCRIPTION:Join us in putting together the gardens on campus! Meet us in the garden outside of Lummi – Bldg. 8 on Saturdays noon to 3 pm! Questions? Contact Anna Wascke at awaschke@nwic.edu
URL:https://www.nwic.edu/event/forest-garden-club-13/
LOCATION:Lummi Main Campus – Bldg. 8\, Room CL-2
CATEGORIES:Student Club
ORGANIZER;CN="Anna Waschke":MAILTO:awaschke@nwic.edu
END:VEVENT
BEGIN:VEVENT
DTSTART;TZID=America/Vancouver:20240507T120000
DTEND;TZID=America/Vancouver:20240507T130000
DTSTAMP:20260424T010400
CREATED:20240506T224549Z
LAST-MODIFIED:20240506T224549Z
UID:26326-1715083200-1715086800@www.nwic.edu
SUMMARY:AISES Chapter Meeting
DESCRIPTION:Join us for the NWIC Chapter of the American Indian Science and Engineering Society meeting in-person in Lummi – Bldg. 15 on on Zoom (email Aissa Yazzie at atyazzie@nwic.edu for the link).
URL:https://www.nwic.edu/event/aises-chapter-meeting-7/
LOCATION:Kwina 114 (bldg #15)
CATEGORIES:Student Club
ATTACH;FMTTYPE=image/jpeg:https://www.nwic.edu/wp-content/uploads/2024/05/AISES-Spring-24.jpg
ORGANIZER;CN="Aissa Yazzie":MAILTO:atyazzie@nwic.edu
END:VEVENT
BEGIN:VEVENT
DTSTART;TZID=America/Vancouver:20240507T120000
DTEND;TZID=America/Vancouver:20240507T130000
DTSTAMP:20260424T010400
CREATED:20240506T234211Z
LAST-MODIFIED:20240506T234211Z
UID:26362-1715083200-1715086800@www.nwic.edu
SUMMARY:Music Club Virtual Meeting
DESCRIPTION:The Music Club is hosting weekly meetings and a series of musical events \n\nVirtual Club Meeting: Tuesdays 12-1 (Zoom)\nWellness Jamz: Tuesdays 1-4 pm & Fridays noon-3 pm\, Lummi – Bldg. 5\nStudio After Hours: Wednesdays 5-8 pm
URL:https://www.nwic.edu/event/music-club-virtual-meeting-5/
LOCATION:Zoom
CATEGORIES:Student Club
ATTACH;FMTTYPE=image/jpeg:https://www.nwic.edu/wp-content/uploads/2024/05/Spring-24-Music-Club-Flyer.jpg
END:VEVENT
BEGIN:VEVENT
DTSTART;TZID=America/Vancouver:20240507T130000
DTEND;TZID=America/Vancouver:20240507T160000
DTSTAMP:20260424T010400
CREATED:20240506T234830Z
LAST-MODIFIED:20240506T234830Z
UID:26375-1715086800-1715097600@www.nwic.edu
SUMMARY:Wellness Jamz
DESCRIPTION:The Music Club is hosting weekly Wellness Jamz! Join us! \n\nVirtual Club Meeting: Tuesdays 12-1 (Zoom)\nWellness Jamz: Tuesdays 1-4 pm & Fridays noon-3 pm\, Lummi – Bldg. 5\nStudio After Hours: Wednesdays 5-8 pm
URL:https://www.nwic.edu/event/wellness-jamz-6/
LOCATION:Building 5\, Annex
CATEGORIES:Student Club,Wellness
ATTACH;FMTTYPE=image/jpeg:https://www.nwic.edu/wp-content/uploads/2024/05/Spring-24-Music-Club-Flyer.jpg
END:VEVENT
BEGIN:VEVENT
DTSTART;TZID=America/Vancouver:20240507T190000
DTEND;TZID=America/Vancouver:20240507T200000
DTSTAMP:20260424T010400
CREATED:20240507T000402Z
LAST-MODIFIED:20240507T000402Z
UID:26402-1715108400-1715112000@www.nwic.edu
SUMMARY:NWIC Mountaineers Spring Planning Meeting
DESCRIPTION:Join the NWIC Mountaineers in our planning meeting on Zoom! Questions? Contact Joan Banel at jbanel@nwic.edu
URL:https://www.nwic.edu/event/nwic-mountaineers-spring-planning-meeting/
CATEGORIES:Student Club
ATTACH;FMTTYPE=image/png:https://www.nwic.edu/wp-content/uploads/2024/05/NWIC-Mountaineers-Spring-24.png
END:VEVENT
BEGIN:VEVENT
DTSTART;TZID=America/Vancouver:20240508T160000
DTEND;TZID=America/Vancouver:20240508T180000
DTSTAMP:20260424T010400
CREATED:20240507T001840Z
LAST-MODIFIED:20240507T001840Z
UID:26423-1715184000-1715191200@www.nwic.edu
SUMMARY:RC Club Meeting
DESCRIPTION:Join the RC Club in weekly meeting! Questions? Contact Calvin Miller at cmmiller@nwic.edu
URL:https://www.nwic.edu/event/rc-club-meeting-5/
LOCATION:Lummi Campus – Bldg. 11
CATEGORIES:Student Club
ATTACH;FMTTYPE=image/png:https://www.nwic.edu/wp-content/uploads/2024/05/RC-Club-Spring-24-Flyer.png
ORGANIZER;CN="Calvin Miller":MAILTO:cmmiller@nwic.edu
END:VEVENT
BEGIN:VEVENT
DTSTART;TZID=America/Vancouver:20240508T170000
DTEND;TZID=America/Vancouver:20240508T200000
DTSTAMP:20260424T010400
CREATED:20240506T235724Z
LAST-MODIFIED:20240506T235724Z
UID:26396-1715187600-1715198400@www.nwic.edu
SUMMARY:Studio After Hours
DESCRIPTION:The Music Club is hosting weekly Wellness Jamz! Join us! \n\nVirtual Club Meeting: Tuesdays 12-1 (Zoom)\nWellness Jamz: Tuesdays 1-4 pm & Fridays noon-3 pm\, Lummi – Bldg. 5\nStudio After Hours: Wednesdays 5-8 pm
URL:https://www.nwic.edu/event/studio-after-hours-7/
LOCATION:Building 5\, Annex
CATEGORIES:Student Club
ATTACH;FMTTYPE=image/jpeg:https://www.nwic.edu/wp-content/uploads/2024/05/Spring-24-Music-Club-Flyer.jpg
END:VEVENT
BEGIN:VEVENT
DTSTART;TZID=America/Vancouver:20240510T120000
DTEND;TZID=America/Vancouver:20240510T150000
DTSTAMP:20260424T010400
CREATED:20240506T235205Z
LAST-MODIFIED:20240506T235205Z
UID:26384-1715342400-1715353200@www.nwic.edu
SUMMARY:Wellness Jamz
DESCRIPTION:The Music Club is hosting weekly Wellness Jamz! Join us! \n\nVirtual Club Meeting: Tuesdays 12-1 (Zoom)\nWellness Jamz: Tuesdays 1-4 pm & Fridays noon-3 pm\, Lummi – Bldg. 5\nStudio After Hours: Wednesdays 5-8 pm
URL:https://www.nwic.edu/event/wellness-jamz-15/
LOCATION:Building 5\, Annex
CATEGORIES:Student Club,Wellness
ATTACH;FMTTYPE=image/jpeg:https://www.nwic.edu/wp-content/uploads/2024/05/Spring-24-Music-Club-Flyer.jpg
END:VEVENT
BEGIN:VEVENT
DTSTART;TZID=America/Vancouver:20240511T120000
DTEND;TZID=America/Vancouver:20240511T150000
DTSTAMP:20260424T010400
CREATED:20240507T011012Z
LAST-MODIFIED:20240507T011012Z
UID:26481-1715428800-1715439600@www.nwic.edu
SUMMARY:Forest Garden Club
DESCRIPTION:Join us in putting together the gardens on campus! Meet us in the garden outside of Lummi – Bldg. 8 on Saturdays noon to 3 pm! Questions? Contact Anna Wascke at awaschke@nwic.edu
URL:https://www.nwic.edu/event/forest-garden-club-14/
LOCATION:Lummi Main Campus – Bldg. 8\, Room CL-2
CATEGORIES:Student Club
ORGANIZER;CN="Anna Waschke":MAILTO:awaschke@nwic.edu
END:VEVENT
BEGIN:VEVENT
DTSTART;TZID=America/Vancouver:20240514T120000
DTEND;TZID=America/Vancouver:20240514T130000
DTSTAMP:20260424T010400
CREATED:20240506T224627Z
LAST-MODIFIED:20240506T224627Z
UID:26328-1715688000-1715691600@www.nwic.edu
SUMMARY:AISES Chapter Meeting
DESCRIPTION:Join us for the NWIC Chapter of the American Indian Science and Engineering Society meeting in-person in Lummi – Bldg. 15 on on Zoom (email Aissa Yazzie at atyazzie@nwic.edu for the link).
URL:https://www.nwic.edu/event/aises-chapter-meeting-8/
LOCATION:Kwina 114 (bldg #15)
CATEGORIES:Student Club
ATTACH;FMTTYPE=image/jpeg:https://www.nwic.edu/wp-content/uploads/2024/05/AISES-Spring-24.jpg
ORGANIZER;CN="Aissa Yazzie":MAILTO:atyazzie@nwic.edu
END:VEVENT
BEGIN:VEVENT
DTSTART;TZID=America/Vancouver:20240514T120000
DTEND;TZID=America/Vancouver:20240514T130000
DTSTAMP:20260424T010400
CREATED:20240506T234232Z
LAST-MODIFIED:20240506T234232Z
UID:26363-1715688000-1715691600@www.nwic.edu
SUMMARY:Music Club Virtual Meeting
DESCRIPTION:The Music Club is hosting weekly meetings and a series of musical events \n\nVirtual Club Meeting: Tuesdays 12-1 (Zoom)\nWellness Jamz: Tuesdays 1-4 pm & Fridays noon-3 pm\, Lummi – Bldg. 5\nStudio After Hours: Wednesdays 5-8 pm
URL:https://www.nwic.edu/event/music-club-virtual-meeting-6/
LOCATION:Zoom
CATEGORIES:Student Club
ATTACH;FMTTYPE=image/jpeg:https://www.nwic.edu/wp-content/uploads/2024/05/Spring-24-Music-Club-Flyer.jpg
END:VEVENT
BEGIN:VEVENT
DTSTART;TZID=America/Vancouver:20240514T130000
DTEND;TZID=America/Vancouver:20240514T160000
DTSTAMP:20260424T010400
CREATED:20240506T234809Z
LAST-MODIFIED:20240506T234809Z
UID:26374-1715691600-1715702400@www.nwic.edu
SUMMARY:Wellness Jamz
DESCRIPTION:The Music Club is hosting weekly Wellness Jamz! Join us! \n\nVirtual Club Meeting: Tuesdays 12-1 (Zoom)\nWellness Jamz: Tuesdays 1-4 pm & Fridays noon-3 pm\, Lummi – Bldg. 5\nStudio After Hours: Wednesdays 5-8 pm
URL:https://www.nwic.edu/event/wellness-jamz-5/
LOCATION:Building 5\, Annex
CATEGORIES:Student Club,Wellness
ATTACH;FMTTYPE=image/jpeg:https://www.nwic.edu/wp-content/uploads/2024/05/Spring-24-Music-Club-Flyer.jpg
END:VEVENT
BEGIN:VEVENT
DTSTART;TZID=America/Vancouver:20240515T160000
DTEND;TZID=America/Vancouver:20240515T180000
DTSTAMP:20260424T010400
CREATED:20240507T001900Z
LAST-MODIFIED:20240507T001900Z
UID:26424-1715788800-1715796000@www.nwic.edu
SUMMARY:RC Club Meeting
DESCRIPTION:Join the RC Club in weekly meeting! Questions? Contact Calvin Miller at cmmiller@nwic.edu
URL:https://www.nwic.edu/event/rc-club-meeting-6/
LOCATION:Lummi Campus – Bldg. 11
CATEGORIES:Student Club
ATTACH;FMTTYPE=image/png:https://www.nwic.edu/wp-content/uploads/2024/05/RC-Club-Spring-24-Flyer.png
ORGANIZER;CN="Calvin Miller":MAILTO:cmmiller@nwic.edu
END:VEVENT
BEGIN:VEVENT
DTSTART;TZID=America/Vancouver:20240515T170000
DTEND;TZID=America/Vancouver:20240515T200000
DTSTAMP:20260424T010400
CREATED:20240506T235702Z
LAST-MODIFIED:20240506T235702Z
UID:26395-1715792400-1715803200@www.nwic.edu
SUMMARY:Studio After Hours
DESCRIPTION:The Music Club is hosting weekly Wellness Jamz! Join us! \n\nVirtual Club Meeting: Tuesdays 12-1 (Zoom)\nWellness Jamz: Tuesdays 1-4 pm & Fridays noon-3 pm\, Lummi – Bldg. 5\nStudio After Hours: Wednesdays 5-8 pm
URL:https://www.nwic.edu/event/studio-after-hours-6/
LOCATION:Building 5\, Annex
CATEGORIES:Student Club
ATTACH;FMTTYPE=image/jpeg:https://www.nwic.edu/wp-content/uploads/2024/05/Spring-24-Music-Club-Flyer.jpg
END:VEVENT
BEGIN:VEVENT
DTSTART;TZID=America/Vancouver:20240517T120000
DTEND;TZID=America/Vancouver:20240517T150000
DTSTAMP:20260424T010400
CREATED:20240506T235228Z
LAST-MODIFIED:20240506T235228Z
UID:26385-1715947200-1715958000@www.nwic.edu
SUMMARY:Wellness Jamz
DESCRIPTION:The Music Club is hosting weekly Wellness Jamz! Join us! \n\nVirtual Club Meeting: Tuesdays 12-1 (Zoom)\nWellness Jamz: Tuesdays 1-4 pm & Fridays noon-3 pm\, Lummi – Bldg. 5\nStudio After Hours: Wednesdays 5-8 pm
URL:https://www.nwic.edu/event/wellness-jamz-16/
LOCATION:Building 5\, Annex
CATEGORIES:Student Club,Wellness
ATTACH;FMTTYPE=image/jpeg:https://www.nwic.edu/wp-content/uploads/2024/05/Spring-24-Music-Club-Flyer.jpg
END:VEVENT
BEGIN:VEVENT
DTSTART;TZID=America/Vancouver:20240518T120000
DTEND;TZID=America/Vancouver:20240518T150000
DTSTAMP:20260424T010400
CREATED:20240507T011106Z
LAST-MODIFIED:20240507T011106Z
UID:26482-1716033600-1716044400@www.nwic.edu
SUMMARY:Forest Garden Club
DESCRIPTION:Join us in putting together the gardens on campus! Meet us in the garden outside of Lummi – Bldg. 8 on Saturdays noon to 3 pm! Questions? Contact Anna Wascke at awaschke@nwic.edu
URL:https://www.nwic.edu/event/forest-garden-club-15/
LOCATION:Lummi Main Campus – Bldg. 8\, Room CL-2
CATEGORIES:Student Club
ORGANIZER;CN="Anna Waschke":MAILTO:awaschke@nwic.edu
END:VEVENT
BEGIN:VEVENT
DTSTART;TZID=America/Vancouver:20240521T120000
DTEND;TZID=America/Vancouver:20240521T130000
DTSTAMP:20260424T010400
CREATED:20240506T224650Z
LAST-MODIFIED:20240506T224650Z
UID:26329-1716292800-1716296400@www.nwic.edu
SUMMARY:AISES Chapter Meeting
DESCRIPTION:Join us for the NWIC Chapter of the American Indian Science and Engineering Society meeting in-person in Lummi – Bldg. 15 on on Zoom (email Aissa Yazzie at atyazzie@nwic.edu for the link).
URL:https://www.nwic.edu/event/aises-chapter-meeting-9/
LOCATION:Kwina 114 (bldg #15)
CATEGORIES:Student Club
ATTACH;FMTTYPE=image/jpeg:https://www.nwic.edu/wp-content/uploads/2024/05/AISES-Spring-24.jpg
ORGANIZER;CN="Aissa Yazzie":MAILTO:atyazzie@nwic.edu
END:VEVENT
BEGIN:VEVENT
DTSTART;TZID=America/Vancouver:20240521T120000
DTEND;TZID=America/Vancouver:20240521T130000
DTSTAMP:20260424T010400
CREATED:20240506T234253Z
LAST-MODIFIED:20240506T234253Z
UID:26364-1716292800-1716296400@www.nwic.edu
SUMMARY:Music Club Virtual Meeting
DESCRIPTION:The Music Club is hosting weekly meetings and a series of musical events \n\nVirtual Club Meeting: Tuesdays 12-1 (Zoom)\nWellness Jamz: Tuesdays 1-4 pm & Fridays noon-3 pm\, Lummi – Bldg. 5\nStudio After Hours: Wednesdays 5-8 pm
URL:https://www.nwic.edu/event/music-club-virtual-meeting-7/
LOCATION:Zoom
CATEGORIES:Student Club
ATTACH;FMTTYPE=image/jpeg:https://www.nwic.edu/wp-content/uploads/2024/05/Spring-24-Music-Club-Flyer.jpg
END:VEVENT
BEGIN:VEVENT
DTSTART;TZID=America/Vancouver:20240521T130000
DTEND;TZID=America/Vancouver:20240521T160000
DTSTAMP:20260424T010400
CREATED:20240506T234750Z
LAST-MODIFIED:20240506T234750Z
UID:26373-1716296400-1716307200@www.nwic.edu
SUMMARY:Wellness Jamz
DESCRIPTION:The Music Club is hosting weekly Wellness Jamz! Join us! \n\nVirtual Club Meeting: Tuesdays 12-1 (Zoom)\nWellness Jamz: Tuesdays 1-4 pm & Fridays noon-3 pm\, Lummi – Bldg. 5\nStudio After Hours: Wednesdays 5-8 pm
URL:https://www.nwic.edu/event/wellness-jamz-4/
LOCATION:Building 5\, Annex
CATEGORIES:Student Club,Wellness
ATTACH;FMTTYPE=image/jpeg:https://www.nwic.edu/wp-content/uploads/2024/05/Spring-24-Music-Club-Flyer.jpg
END:VEVENT
BEGIN:VEVENT
DTSTART;TZID=America/Vancouver:20240522T160000
DTEND;TZID=America/Vancouver:20240522T180000
DTSTAMP:20260424T010400
CREATED:20240507T001918Z
LAST-MODIFIED:20240507T001918Z
UID:26425-1716393600-1716400800@www.nwic.edu
SUMMARY:RC Club Meeting
DESCRIPTION:Join the RC Club in weekly meeting! Questions? Contact Calvin Miller at cmmiller@nwic.edu
URL:https://www.nwic.edu/event/rc-club-meeting-7/
LOCATION:Lummi Campus – Bldg. 11
CATEGORIES:Student Club
ATTACH;FMTTYPE=image/png:https://www.nwic.edu/wp-content/uploads/2024/05/RC-Club-Spring-24-Flyer.png
ORGANIZER;CN="Calvin Miller":MAILTO:cmmiller@nwic.edu
END:VEVENT
BEGIN:VEVENT
DTSTART;TZID=America/Vancouver:20240522T170000
DTEND;TZID=America/Vancouver:20240522T200000
DTSTAMP:20260424T010400
CREATED:20240506T235635Z
LAST-MODIFIED:20240506T235635Z
UID:26394-1716397200-1716408000@www.nwic.edu
SUMMARY:Studio After Hours
DESCRIPTION:The Music Club is hosting weekly Wellness Jamz! Join us! \n\nVirtual Club Meeting: Tuesdays 12-1 (Zoom)\nWellness Jamz: Tuesdays 1-4 pm & Fridays noon-3 pm\, Lummi – Bldg. 5\nStudio After Hours: Wednesdays 5-8 pm
URL:https://www.nwic.edu/event/studio-after-hours-5/
LOCATION:Building 5\, Annex
CATEGORIES:Student Club
ATTACH;FMTTYPE=image/jpeg:https://www.nwic.edu/wp-content/uploads/2024/05/Spring-24-Music-Club-Flyer.jpg
END:VEVENT
BEGIN:VEVENT
DTSTART;TZID=America/Vancouver:20240524T120000
DTEND;TZID=America/Vancouver:20240524T150000
DTSTAMP:20260424T010400
CREATED:20240506T235257Z
LAST-MODIFIED:20240506T235257Z
UID:26386-1716552000-1716562800@www.nwic.edu
SUMMARY:Wellness Jamz
DESCRIPTION:The Music Club is hosting weekly Wellness Jamz! Join us! \n\nVirtual Club Meeting: Tuesdays 12-1 (Zoom)\nWellness Jamz: Tuesdays 1-4 pm & Fridays noon-3 pm\, Lummi – Bldg. 5\nStudio After Hours: Wednesdays 5-8 pm
URL:https://www.nwic.edu/event/wellness-jamz-17/
LOCATION:Building 5\, Annex
CATEGORIES:Student Club,Wellness
ATTACH;FMTTYPE=image/jpeg:https://www.nwic.edu/wp-content/uploads/2024/05/Spring-24-Music-Club-Flyer.jpg
END:VEVENT
END:VCALENDAR