BEGIN:VCALENDAR
VERSION:2.0
PRODID:-//Northwest Indian College - ECPv6.15.20//NONSGML v1.0//EN
CALSCALE:GREGORIAN
METHOD:PUBLISH
X-WR-CALNAME:Northwest Indian College
X-ORIGINAL-URL:https://www.nwic.edu
X-WR-CALDESC:Events for Northwest Indian College
REFRESH-INTERVAL;VALUE=DURATION:PT1H
X-Robots-Tag:noindex
X-PUBLISHED-TTL:PT1H
BEGIN:VTIMEZONE
TZID:America/Vancouver
BEGIN:DAYLIGHT
TZOFFSETFROM:-0800
TZOFFSETTO:-0700
TZNAME:PDT
DTSTART:20250309T100000
END:DAYLIGHT
BEGIN:STANDARD
TZOFFSETFROM:-0700
TZOFFSETTO:-0800
TZNAME:PST
DTSTART:20251102T090000
END:STANDARD
BEGIN:DAYLIGHT
TZOFFSETFROM:-0800
TZOFFSETTO:-0700
TZNAME:PDT
DTSTART:20260308T100000
END:DAYLIGHT
BEGIN:STANDARD
TZOFFSETFROM:-0700
TZOFFSETTO:-0800
TZNAME:PST
DTSTART:20261101T090000
END:STANDARD
BEGIN:DAYLIGHT
TZOFFSETFROM:-0800
TZOFFSETTO:-0700
TZNAME:PDT
DTSTART:20270314T100000
END:DAYLIGHT
BEGIN:STANDARD
TZOFFSETFROM:-0700
TZOFFSETTO:-0800
TZNAME:PST
DTSTART:20271107T090000
END:STANDARD
END:VTIMEZONE
BEGIN:VEVENT
DTSTART;TZID=America/Vancouver:20260227T140000
DTEND;TZID=America/Vancouver:20260227T160000
DTSTAMP:20260421T074025
CREATED:20260211T220438Z
LAST-MODIFIED:20260211T220438Z
UID:28303-1772200800-1772208000@www.nwic.edu
SUMMARY:Poetry Slam: A Celebration of Story\, Connection\, and Wellness
DESCRIPTION:Join us for a powerful Poetry Slam at NWIC’s Log Building on Feb 27\, 2-4 PM! 🎤 \nCelebrating Story\, Connection\, and Wellness\, we’ll feature poets sharing their truths\, music\, and culture. Our event will be open mic\, please come speak your truth! Our hope is to promote belonging\, mastery\, interdependence\, and generosity. \nAll NWIC students\, staff\, and community welcome! 😊 Our Stories are our Medicine and we hope to see you there! \nPoetry Slam example: \nhttps://youtu.be/r3pslYJjpDo?si=zZ9lvwDJ6w8lKMSm
URL:https://www.nwic.edu/event/poetry-slam/
LOCATION:NWIC Log Building (#7a)\, WA\, United States
CATEGORIES:Student Events,Wellness
ORGANIZER;CN="NWIC Center for Health":MAILTO:erin
END:VEVENT
END:VCALENDAR