BEGIN:VCALENDAR
VERSION:2.0
PRODID:-//Northwest Indian College - ECPv6.15.20//NONSGML v1.0//EN
CALSCALE:GREGORIAN
METHOD:PUBLISH
X-WR-CALNAME:Northwest Indian College
X-ORIGINAL-URL:https://www.nwic.edu
X-WR-CALDESC:Events for Northwest Indian College
REFRESH-INTERVAL;VALUE=DURATION:PT1H
X-Robots-Tag:noindex
X-PUBLISHED-TTL:PT1H
BEGIN:VTIMEZONE
TZID:America/Vancouver
BEGIN:DAYLIGHT
TZOFFSETFROM:-0800
TZOFFSETTO:-0700
TZNAME:PDT
DTSTART:20210314T100000
END:DAYLIGHT
BEGIN:STANDARD
TZOFFSETFROM:-0700
TZOFFSETTO:-0800
TZNAME:PST
DTSTART:20211107T090000
END:STANDARD
BEGIN:DAYLIGHT
TZOFFSETFROM:-0800
TZOFFSETTO:-0700
TZNAME:PDT
DTSTART:20220313T100000
END:DAYLIGHT
BEGIN:STANDARD
TZOFFSETFROM:-0700
TZOFFSETTO:-0800
TZNAME:PST
DTSTART:20221106T090000
END:STANDARD
BEGIN:DAYLIGHT
TZOFFSETFROM:-0800
TZOFFSETTO:-0700
TZNAME:PDT
DTSTART:20230312T100000
END:DAYLIGHT
BEGIN:STANDARD
TZOFFSETFROM:-0700
TZOFFSETTO:-0800
TZNAME:PST
DTSTART:20231105T090000
END:STANDARD
END:VTIMEZONE
BEGIN:VEVENT
DTSTART;TZID=America/Vancouver:20221103T190000
DTEND;TZID=America/Vancouver:20221103T210000
DTSTAMP:20260420T014559
CREATED:20221101T234950Z
LAST-MODIFIED:20230106T014055Z
UID:23582-1667502000-1667509200@www.nwic.edu
SUMMARY:Away: NWIC Eagles vs. Montana State Northern
DESCRIPTION:Final: 45-100 (L)\nMen’s Basketball takes on Montana State Northern \n Nov. 3 at 7 p.m. \nLocation: Armory Gymnasium in Havre\, Mont. \nLivestream available \nContact: jlmathias@nwic.edu
URL:https://www.nwic.edu/event/nwic-eagles-v-montana-state-northern/
LOCATION:Washington
CATEGORIES:Athletic
ORGANIZER;CN="James Mathias":MAILTO:jlmathias@nwic.edu
END:VEVENT
BEGIN:VEVENT
DTSTART;TZID=America/Vancouver:20221105T120000
DTEND;TZID=America/Vancouver:20221105T140000
DTSTAMP:20260420T014559
CREATED:20221102T000419Z
LAST-MODIFIED:20230106T014049Z
UID:23587-1667649600-1667656800@www.nwic.edu
SUMMARY:Away: Lady Eagles vs. Treasure Valley
DESCRIPTION:Canceled\nCheer on the Lady Eagles as they play Treasure Valley Community College! \nNov. 5 at noon MT \nLocation: Treasure Valley Community College — Ontario\, OR \nContact: jlmathias@nwic.edu
URL:https://www.nwic.edu/event/lady-eagles-v-treasure-valley/
LOCATION:Washington
CATEGORIES:Athletic
ORGANIZER;CN="James Mathias":MAILTO:jlmathias@nwic.edu
END:VEVENT
BEGIN:VEVENT
DTSTART;TZID=America/Vancouver:20221107T190000
DTEND;TZID=America/Vancouver:20221107T203000
DTSTAMP:20260420T014559
CREATED:20230106T005628Z
LAST-MODIFIED:20230106T014044Z
UID:23830-1667847600-1667853000@www.nwic.edu
SUMMARY:Away: Lady Eagles vs. Edmonds College
DESCRIPTION:FINAL:  31-34 (L)\nCheer on the Lady Eagles as they play Edmonds College \nNov. 7 at 7 p.m. \nLocation: Edmonds College in Lynwood\, WA \nContact: jlmathias@nwic.edu
URL:https://www.nwic.edu/event/lady-eagles-v-treasure-valley-2/
LOCATION:Washington
CATEGORIES:Athletic
ORGANIZER;CN="James Mathias":MAILTO:jlmathias@nwic.edu
END:VEVENT
BEGIN:VEVENT
DTSTART;TZID=America/Vancouver:20221107T191000
DTEND;TZID=America/Vancouver:20221107T210000
DTSTAMP:20260420T014559
CREATED:20221101T235930Z
LAST-MODIFIED:20230106T010127Z
UID:23585-1667848200-1667854800@www.nwic.edu
SUMMARY:Home: NWIC Eagles v Simpson University
DESCRIPTION:FINAL: 64-81 (L)\nCheer on Men’s Basketball at a home game v Simpson! \nNov. 7 at 7 p.m. \nLocation change: Mackenzie Gym 3364 Morning Star Dr.\, Bellingham \nContact: jlmathias@nwic.edu
URL:https://www.nwic.edu/event/nwic-eagles-v-simpson-university/
LOCATION:Lummi High School\, 2334 Lummi View Dr\, Bellingham\, 98226\, United States
CATEGORIES:Athletic
ORGANIZER;CN="James Mathias":MAILTO:jlmathias@nwic.edu
END:VEVENT
BEGIN:VEVENT
DTSTART;TZID=America/Vancouver:20221108T170000
DTEND;TZID=America/Vancouver:20221108T190000
DTSTAMP:20260420T014559
CREATED:20221103T152953Z
LAST-MODIFIED:20221107T192714Z
UID:23593-1667926800-1667934000@www.nwic.edu
SUMMARY:2022 First Generation Celebration
DESCRIPTION:First Generation Celebration\nSnacks\, Buttons\, Stickers\, Games!\nTuesday\, November 8 – 5pm\nCenter for Student Success\n \nNovember 8 was selected as the date for the annual National First-Generation College Celebration to honor the anniversary of the signing of the Higher Education Act of 1965. The HEA EA ushered in programs\, particularly the Federal TRIO programs\, necessary for postsecondary access\, retention\, and completion for low-income\, potential first-generation college graduates. \nJoin NWIC to celebrate the success of first-generation college students\, faculty\, staff\, and alumni in any and every way possible!
URL:https://www.nwic.edu/event/2022-first-generation-celebration/
LOCATION:CSS – Center for Student Success – Bldg 17\, 2522 Kwina Rd\, Bellingham\, WA\, 98226\, United States
ORGANIZER;CN="Shoshaunee Perez":MAILTO:sperez@nwic.edu
END:VEVENT
BEGIN:VEVENT
DTSTART;TZID=America/Vancouver:20221109T120000
DTEND;TZID=America/Vancouver:20221109T130000
DTSTAMP:20260420T014559
CREATED:20221104T192626Z
LAST-MODIFIED:20221104T192626Z
UID:23597-1667995200-1667998800@www.nwic.edu
SUMMARY:Native Pride Music Club
DESCRIPTION:Native Pride Music Club meets Tuesdays at noon.\n\nMusic is our Sovereignty!\n\nJoin us via Zoom weekly.\n\nQuestions? Contact Gaby Salazar at gsalazar@nwic.edu
URL:https://www.nwic.edu/event/native-pride-music-club-2/
LOCATION:Zoom
CATEGORIES:Student Club
ORGANIZER;CN="Gaby Salazar":MAILTO:gsalazar@nwic.edu
END:VEVENT
BEGIN:VEVENT
DTSTART;TZID=America/Vancouver:20221115T120000
DTEND;TZID=America/Vancouver:20221115T143000
DTSTAMP:20260420T014559
CREATED:20221111T211555Z
LAST-MODIFIED:20230106T005142Z
UID:23612-1668513600-1668522600@www.nwic.edu
SUMMARY:Salish Sea Speaker Series — Frank Lawrence III
DESCRIPTION:View video here. \nThe Native Environmental Science Department presents the Salish Sea Speaker Series \nJoin NWIC alum and Deputy Director II of Lummi Natural Resources Qwa Shus — Frank Lawrence III in conversation about his life as a Lummi fisherman. \nTuesday\, Nov. 15 \nIn-person and via Zoom \nNoon – 1 p.m. — In-person lunch (50 person capacity) in the Log Building at the Lummi Campus \n1 – 2 p.m. — Discussion in-person in the Log Building or via Zoom \nZoom link: bit.ly/SalishSeaSpeaker
URL:https://www.nwic.edu/event/salish-sea-speaker-series-frank-lawrence-iii/
LOCATION:Log Building\, 2522 Kwina Rd.\, Bellingham\, WA\, 98226\, United States
CATEGORIES:Presentation
END:VEVENT
BEGIN:VEVENT
DTSTART;TZID=America/Vancouver:20221115T180000
DTEND;TZID=America/Vancouver:20221115T193000
DTSTAMP:20260420T014559
CREATED:20230106T005842Z
LAST-MODIFIED:20230106T014036Z
UID:23831-1668535200-1668540600@www.nwic.edu
SUMMARY:Away: Lady Eagles vs. Spokane Community College
DESCRIPTION:FINAL:  61-43 (W)\nCheer on the Lady Eagles as they play Spokane Community College! \nNov. 15 at 6 p.m. \nLocation: Spokane Community College in Spokane\, WA \nContact: jlmathias@nwic.edu
URL:https://www.nwic.edu/event/away-lady-eagles-v-spokane-community-college/
LOCATION:Washington
CATEGORIES:Athletic
ORGANIZER;CN="James Mathias":MAILTO:jlmathias@nwic.edu
END:VEVENT
BEGIN:VEVENT
DTSTART;TZID=America/Vancouver:20221118T190000
DTEND;TZID=America/Vancouver:20221118T203000
DTSTAMP:20260420T014559
CREATED:20230106T011705Z
LAST-MODIFIED:20230106T014017Z
UID:23833-1668798000-1668803400@www.nwic.edu
SUMMARY:Home: Lady Eagles vs. Skagit Valley College
DESCRIPTION:Final: 26-35 (L)\nCheer on the Lady Eagles as they play Skagit Valley College! \nNov. 18 at 7 p.m. \nLocation: Lummi Nation School – Bellingham\, WA \nContact: jlmathias@nwic.edu
URL:https://www.nwic.edu/event/home-lady-eagles-v-skagit-valley-college/
LOCATION:Washington
CATEGORIES:Athletic
ORGANIZER;CN="James Mathias":MAILTO:jlmathias@nwic.edu
END:VEVENT
END:VCALENDAR