BEGIN:VCALENDAR
VERSION:2.0
PRODID:-//Northwest Indian College - ECPv6.15.20//NONSGML v1.0//EN
CALSCALE:GREGORIAN
METHOD:PUBLISH
X-WR-CALNAME:Northwest Indian College
X-ORIGINAL-URL:https://www.nwic.edu
X-WR-CALDESC:Events for Northwest Indian College
REFRESH-INTERVAL;VALUE=DURATION:PT1H
X-Robots-Tag:noindex
X-PUBLISHED-TTL:PT1H
BEGIN:VTIMEZONE
TZID:America/Vancouver
BEGIN:DAYLIGHT
TZOFFSETFROM:-0800
TZOFFSETTO:-0700
TZNAME:PDT
DTSTART:20230312T100000
END:DAYLIGHT
BEGIN:STANDARD
TZOFFSETFROM:-0700
TZOFFSETTO:-0800
TZNAME:PST
DTSTART:20231105T090000
END:STANDARD
BEGIN:DAYLIGHT
TZOFFSETFROM:-0800
TZOFFSETTO:-0700
TZNAME:PDT
DTSTART:20240310T100000
END:DAYLIGHT
BEGIN:STANDARD
TZOFFSETFROM:-0700
TZOFFSETTO:-0800
TZNAME:PST
DTSTART:20241103T090000
END:STANDARD
BEGIN:DAYLIGHT
TZOFFSETFROM:-0800
TZOFFSETTO:-0700
TZNAME:PDT
DTSTART:20250309T100000
END:DAYLIGHT
BEGIN:STANDARD
TZOFFSETFROM:-0700
TZOFFSETTO:-0800
TZNAME:PST
DTSTART:20251102T090000
END:STANDARD
END:VTIMEZONE
BEGIN:VEVENT
DTSTART;VALUE=DATE:20240902
DTEND;VALUE=DATE:20240903
DTSTAMP:20260424T061944
CREATED:20240827T234957Z
LAST-MODIFIED:20240827T235035Z
UID:26848-1725235200-1725321599@www.nwic.edu
SUMMARY:Labor Day — College Closed
DESCRIPTION:NWIC is closed Mon. Sept. 2 for Labor Day and will reopen during regular business hours Tues. Sept. 3
URL:https://www.nwic.edu/event/labor-day-college-closed/
CATEGORIES:Holidays / Closures
END:VEVENT
BEGIN:VEVENT
DTSTART;TZID=America/Vancouver:20240904T100000
DTEND;TZID=America/Vancouver:20240904T140000
DTSTAMP:20260424T061944
CREATED:20240828T235208Z
LAST-MODIFIED:20240828T235208Z
UID:26856-1725444000-1725458400@www.nwic.edu
SUMMARY:Nez Perce Site Open House (Kamiah)
DESCRIPTION:Join us Thurs. from 10 am to 2 pm for an open house at the NWIC Nez Perce – Kamiah site.
URL:https://www.nwic.edu/event/nez-perce-site-open-house-kamiah/
LOCATION:Nez Perce Site — Kamiah
CATEGORIES:Student Services
ATTACH;FMTTYPE=image/jpeg:https://www.nwic.edu/wp-content/uploads/2024/08/NP-Open-House-Summer-24.jpg
ORGANIZER;CN="Angela Picard":MAILTO:apicard1@nwic.edu
END:VEVENT
BEGIN:VEVENT
DTSTART;TZID=America/Vancouver:20240905T110000
DTEND;TZID=America/Vancouver:20240905T120000
DTSTAMP:20260424T061944
CREATED:20241010T000807Z
LAST-MODIFIED:20241010T000807Z
UID:27005-1725534000-1725537600@www.nwic.edu
SUMMARY:Virtual Recovery Support Group
DESCRIPTION:Join the online support group now meeting on Thursdays at 11 am until the end of the Fall quarter 2024. Here are the dates for this ONLINE wellness educational groups for folks with substance use and trauma issues. Open to all. \n\nAug 29\nSept 5\nSept 12\nSept 19\nOct 3\nOctober 10\nOctober 17\nOctober 31\nNov 7\nNov 14\nNovember 28\nDec 5
URL:https://www.nwic.edu/event/virtual-recovery-support-group-4/
LOCATION:Zoom
CATEGORIES:Wellness
ATTACH;FMTTYPE=image/jpeg:https://www.nwic.edu/wp-content/uploads/2024/10/Virtual-Recovery-Group-Fall-2024.jpg
ORGANIZER;CN="Marilene Silva":MAILTO:marilenesilva@hushmail.com
END:VEVENT
BEGIN:VEVENT
DTSTART;TZID=America/Vancouver:20240912T100000
DTEND;TZID=America/Vancouver:20240912T170000
DTSTAMP:20260424T061944
CREATED:20240814T164634Z
LAST-MODIFIED:20240814T164634Z
UID:26773-1726135200-1726160400@www.nwic.edu
SUMMARY:New Student Orientation (Virtual)
DESCRIPTION:More information coming soon.
URL:https://www.nwic.edu/event/new-student-orientation-virtual/
LOCATION:Zoom
CATEGORIES:Student Services
ORGANIZER;CN="Justin Aceveda":MAILTO:jaaceveda@nwic.edu
END:VEVENT
BEGIN:VEVENT
DTSTART;TZID=America/Vancouver:20240912T110000
DTEND;TZID=America/Vancouver:20240912T120000
DTSTAMP:20260424T061944
CREATED:20241010T000830Z
LAST-MODIFIED:20241010T000830Z
UID:27006-1726138800-1726142400@www.nwic.edu
SUMMARY:Virtual Recovery Support Group
DESCRIPTION:Join the online support group now meeting on Thursdays at 11 am until the end of the Fall quarter 2024. Here are the dates for this ONLINE wellness educational groups for folks with substance use and trauma issues. Open to all. \n\nAug 29\nSept 5\nSept 12\nSept 19\nOct 3\nOctober 10\nOctober 17\nOctober 31\nNov 7\nNov 14\nNovember 28\nDec 5
URL:https://www.nwic.edu/event/virtual-recovery-support-group-5/
LOCATION:Zoom
CATEGORIES:Wellness
ATTACH;FMTTYPE=image/jpeg:https://www.nwic.edu/wp-content/uploads/2024/10/Virtual-Recovery-Group-Fall-2024.jpg
ORGANIZER;CN="Marilene Silva":MAILTO:marilenesilva@hushmail.com
END:VEVENT
BEGIN:VEVENT
DTSTART;VALUE=DATE:20240913
DTEND;VALUE=DATE:20240914
DTSTAMP:20260424T061944
CREATED:20240507T014411Z
LAST-MODIFIED:20240507T021806Z
UID:26502-1726185600-1726271999@www.nwic.edu
SUMMARY:Fall Registration Ends
DESCRIPTION:
URL:https://www.nwic.edu/event/fall-registration-ends/
CATEGORIES:Academic
END:VEVENT
BEGIN:VEVENT
DTSTART;TZID=America/Vancouver:20240913T100000
DTEND;TZID=America/Vancouver:20240913T170000
DTSTAMP:20260424T061944
CREATED:20240814T164740Z
LAST-MODIFIED:20240814T164740Z
UID:26774-1726221600-1726246800@www.nwic.edu
SUMMARY:New Student Orientation (In-Person)
DESCRIPTION:More information coming soon.
URL:https://www.nwic.edu/event/new-student-orientation-in-person/
LOCATION:CSS – Center for Student Success – Bldg 17\, 2522 Kwina Rd\, Bellingham\, WA\, 98226\, United States
CATEGORIES:Student Services
ORGANIZER;CN="Justin Aceveda":MAILTO:jaaceveda@nwic.edu
END:VEVENT
BEGIN:VEVENT
DTSTART;VALUE=DATE:20240916
DTEND;VALUE=DATE:20240917
DTSTAMP:20260424T061944
CREATED:20240507T013405Z
LAST-MODIFIED:20240507T021822Z
UID:26495-1726444800-1726531199@www.nwic.edu
SUMMARY:Fall Classes Begin
DESCRIPTION:
URL:https://www.nwic.edu/event/fall-classes-begin/
CATEGORIES:Academic
END:VEVENT
BEGIN:VEVENT
DTSTART;TZID=America/Vancouver:20240918T130000
DTEND;TZID=America/Vancouver:20240918T140000
DTSTAMP:20260424T061944
CREATED:20240917T212709Z
LAST-MODIFIED:20240919T212808Z
UID:26898-1726664400-1726668000@www.nwic.edu
SUMMARY:Welcome Week: Board Games in the Library
DESCRIPTION:The Lummi Library is open for Board Games Wed. Sept. 18 from 1-2 pm
URL:https://www.nwic.edu/event/welcome-week-board-games-in-the-library/
LOCATION:Lummi Library
CATEGORIES:Student Events
ATTACH;FMTTYPE=image/jpeg:https://www.nwic.edu/wp-content/uploads/2024/09/FALL-2023-WELCOME-WEEK-EVENTS-POSTER-2-1.jpg
ORGANIZER;CN="Fiafia Lamositele":MAILTO:fel@nwic.edu
END:VEVENT
BEGIN:VEVENT
DTSTART;TZID=America/Vancouver:20240918T140000
DTEND;TZID=America/Vancouver:20240918T150000
DTSTAMP:20260424T061944
CREATED:20240918T182150Z
LAST-MODIFIED:20240919T212235Z
UID:26896-1726668000-1726671600@www.nwic.edu
SUMMARY:Welcome Week: Sacred Journey Exhibit
DESCRIPTION:Stop by the Coast Salish Institute to view the Sacred Journey Exhibit Wed. Sept. 18 2-3 pm
URL:https://www.nwic.edu/event/welcome-week-sacred-journey-exhibit/
LOCATION:Coast Salish Institute\, 2522 Kwina Road\, Bldg 21\, Bellingham\, WA\, 98226\, United States
CATEGORIES:Student Events
ATTACH;FMTTYPE=image/jpeg:https://www.nwic.edu/wp-content/uploads/2024/09/FALL-2023-WELCOME-WEEK-EVENTS-POSTER-2-1.jpg
ORGANIZER;CN="Fiafia Lamositele":MAILTO:fel@nwic.edu
END:VEVENT
BEGIN:VEVENT
DTSTART;TZID=America/Vancouver:20240918T160000
DTEND;TZID=America/Vancouver:20240918T180000
DTSTAMP:20260424T061944
CREATED:20240917T213740Z
LAST-MODIFIED:20240919T213758Z
UID:26899-1726675200-1726682400@www.nwic.edu
SUMMARY:NWICF Craft Night
DESCRIPTION:Join us to make hy’shqes (thank yous) as gifts for our Tl’aneq’ Gala
URL:https://www.nwic.edu/event/nwicf-craft-night/
LOCATION:Lummi Campus — Bldg. 1
CATEGORIES:Foundation
ATTACH;FMTTYPE=image/jpeg:https://www.nwic.edu/wp-content/uploads/2024/09/NWICF-Craft-Night-Fall-24-1.jpg
ORGANIZER;CN="Joal Galindo":MAILTO:jlgalindo@nwic.edu
END:VEVENT
BEGIN:VEVENT
DTSTART;TZID=America/Vancouver:20240919T110000
DTEND;TZID=America/Vancouver:20240919T120000
DTSTAMP:20260424T061944
CREATED:20241010T000848Z
LAST-MODIFIED:20241010T000848Z
UID:27007-1726743600-1726747200@www.nwic.edu
SUMMARY:Virtual Recovery Support Group
DESCRIPTION:Join the online support group now meeting on Thursdays at 11 am until the end of the Fall quarter 2024. Here are the dates for this ONLINE wellness educational groups for folks with substance use and trauma issues. Open to all. \n\nAug 29\nSept 5\nSept 12\nSept 19\nOct 3\nOctober 10\nOctober 17\nOctober 31\nNov 7\nNov 14\nNovember 28\nDec 5
URL:https://www.nwic.edu/event/virtual-recovery-support-group-6/
LOCATION:Zoom
CATEGORIES:Wellness
ATTACH;FMTTYPE=image/jpeg:https://www.nwic.edu/wp-content/uploads/2024/10/Virtual-Recovery-Group-Fall-2024.jpg
ORGANIZER;CN="Marilene Silva":MAILTO:marilenesilva@hushmail.com
END:VEVENT
BEGIN:VEVENT
DTSTART;TZID=America/Vancouver:20240919T180000
DTEND;TZID=America/Vancouver:20240919T200000
DTSTAMP:20260424T061944
CREATED:20240917T214516Z
LAST-MODIFIED:20240919T214543Z
UID:26909-1726768800-1726776000@www.nwic.edu
SUMMARY:Bondfire
DESCRIPTION:Join us for an evening at the Outdoor Learning Pavilion (behind the dorms) for a night of fun and gathering!
URL:https://www.nwic.edu/event/bondfire/
LOCATION:Outdoor Learning Pavilion (South)
CATEGORIES:Student Events
ATTACH;FMTTYPE=image/jpeg:https://www.nwic.edu/wp-content/uploads/2024/09/FALL-2023-WELCOME-WEEK-EVENTS-POSTER-2-1.jpg
ORGANIZER;CN="Fiafia Lamositele":MAILTO:fel@nwic.edu
END:VEVENT
BEGIN:VEVENT
DTSTART;TZID=America/Vancouver:20240920T130000
DTEND;TZID=America/Vancouver:20240920T170000
DTSTAMP:20260424T061944
CREATED:20240919T214729Z
LAST-MODIFIED:20240919T214744Z
UID:26910-1726837200-1726851600@www.nwic.edu
SUMMARY:Whatcom Falls Hike
DESCRIPTION:Join us for a local hike from 1-5 pm on Fri. Sept. 20 in Whatcom Falls Park. Transportation is available for those 18+\, leaving from the Dorms at 1 pm.
URL:https://www.nwic.edu/event/whatcom-falls-hikes/
LOCATION:Lummi Campus Dorms
CATEGORIES:Student Events
ATTACH;FMTTYPE=image/jpeg:https://www.nwic.edu/wp-content/uploads/2024/09/Whatcom-Falls-Hike-1.jpg
ORGANIZER;CN="Joan Banel":MAILTO:jbanel@nwic.edu
END:VEVENT
BEGIN:VEVENT
DTSTART;TZID=America/Vancouver:20240925T160000
DTEND;TZID=America/Vancouver:20240925T180000
DTSTAMP:20260424T061944
CREATED:20240919T213843Z
LAST-MODIFIED:20240919T213843Z
UID:26902-1727280000-1727287200@www.nwic.edu
SUMMARY:NWICF Craft Night
DESCRIPTION:Join us to make hy’shqes (thank yous) as gifts for our Tl’aneq’ Gala
URL:https://www.nwic.edu/event/nwicf-craft-night-9/
LOCATION:Lummi Campus — Bldg. 1
CATEGORIES:Foundation
ATTACH;FMTTYPE=image/jpeg:https://www.nwic.edu/wp-content/uploads/2024/09/NWICF-Craft-Night-Fall-24-1.jpg
ORGANIZER;CN="Joal Galindo":MAILTO:jlgalindo@nwic.edu
END:VEVENT
BEGIN:VEVENT
DTSTART;TZID=America/Vancouver:20240926T160000
DTEND;TZID=America/Vancouver:20240926T170000
DTSTAMP:20260424T061944
CREATED:20240924T231033Z
LAST-MODIFIED:20240924T231033Z
UID:26919-1727366400-1727370000@www.nwic.edu
SUMMARY:NWIC RC Club
DESCRIPTION:Join us for our first meeting of the new school year!
URL:https://www.nwic.edu/event/nwic-rc-club-9/
LOCATION:CSS – Center for Student Success – Bldg 17\, 2522 Kwina Rd\, Bellingham\, WA\, 98226\, United States
CATEGORIES:Student Club
ATTACH;FMTTYPE=image/jpeg:https://www.nwic.edu/wp-content/uploads/2024/09/Event-Flyers-5-1.jpg
ORGANIZER;CN="Calvin Miller":MAILTO:cmmiller@nwic.edu
END:VEVENT
END:VCALENDAR